BEGIN:VCALENDAR
PRODID:NingEventWidget-v1
VERSION:2.0
METHOD:PUBLISH
BEGIN:VTIMEZONE
TZID:Europe/Paris
X-LIC-LOCATION:Europe/Paris
BEGIN:DAYLIGHT
TZOFFSETFROM:+0100
TZOFFSETTO:+0200
TZNAME:CEST
DTSTART:19700329T020000
RRULE:FREQ=YEARLY;BYMONTH=3;BYDAY=-1SU
END:DAYLIGHT
BEGIN:STANDARD
TZOFFSETFROM:+0200
TZOFFSETTO:+0100
TZNAME:CET
DTSTART:19701025T030000
RRULE:FREQ=YEARLY;BYMONTH=10;BYDAY=-1SU
END:STANDARD
END:VTIMEZONE
BEGIN:VEVENT
UID:2485226:Event:894782
DTSTAMP:20260422T035231Z
SUMMARY:la caravane NamastÃ© part sur les routes
DESCRIPTION:Si vous ne les avez pas encore rencontrÃ©s, ils viennent Ã
   vous\nQue du bonheur!!!\n1 aout aix en provenceÂ  3\4 aout - carpent
 ras place d'inguimbertÂ  15 aout - Ã©ourres - lÃ©zar vert 23 aout - fl
 orac 24\25 aout - millau -place du marcher 27/28 aout toulouseÂ  d'aut
 res dates arrivent\nhttp://caravanenamaste.franceserv.fr/index.php/oeu
 vres\n\nPour plus d'information, aller sur https://epanews.fr/events/i
 l-faudra-bien-changer-le-monde
DTSTART;TZID=Europe/Paris:20120823T180000
DTEND;TZID=Europe/Paris:20120823T190000
CATEGORIES:tous
LOCATION:EOURRES
WEBSITE:http://caravanenamaste.franceserv.fr/
URL:http://caravanenamaste.franceserv.fr/
CONTACT:
ORGANIZER:le collectif caravane namaste
ATTACH;FMTTYPE="image/jpeg":http://storage.ning.com/topology/rest/1.0/
 file/get/1662640345?profile=original
ATTENDEE;ROLE=REQ-PARTICIPANT;PARTSTAT=ACCEPTED;RSVP=TRUE;CN=Nabila:ht
 tps://epanews.fr/profile/Nabila
ATTENDEE;ROLE=REQ-PARTICIPANT;PARTSTAT=ACCEPTED;RSVP=TRUE;CN="Agnes Pi
 ller":https://epanews.fr/profile/AgnesPiller
END:VEVENT
END:VCALENDAR
