BEGIN:VCALENDAR
PRODID:NingEventWidget-v1
VERSION:2.0
METHOD:PUBLISH
BEGIN:VTIMEZONE
TZID:Europe/Paris
X-LIC-LOCATION:Europe/Paris
BEGIN:DAYLIGHT
TZOFFSETFROM:+0100
TZOFFSETTO:+0200
TZNAME:CEST
DTSTART:19700329T020000
RRULE:FREQ=YEARLY;BYMONTH=3;BYDAY=-1SU
END:DAYLIGHT
BEGIN:STANDARD
TZOFFSETFROM:+0200
TZOFFSETTO:+0100
TZNAME:CET
DTSTART:19701025T030000
RRULE:FREQ=YEARLY;BYMONTH=10;BYDAY=-1SU
END:STANDARD
END:VTIMEZONE
BEGIN:VEVENT
UID:2485226:Event:1578557
DTSTAMP:20260423T123520Z
SUMMARY:Hutte de sudation à Cros (30170)
DESCRIPTION:Hutte de sudation\nNous reprenons avec l'automne, toujours
  sur le même lieu, près du Mas Lafont à Cros (30170).\nNous avons b
 aptisé ce lieu \"Le Campement de Autour des tambours\" qui regroupe m
 aintenant une hutte de sudation, un bassin d'eau fraîche facilement a
 ccessible, une magique petite cascade, une cuisine extérieure avec ea
 u de source courante réalisée dans la tradition des \"Cabanes des bo
 is genre Amazonie\", et même une douche (d'eau fraîche).  Les huttes
  sont précédées d'un rituel autour du feu et autour du bassin d'eau
  de source accompagnés des tambours. Elles font partie de rituels que
  nous retrouvons dans de nombreuses régions, ce sont des rituels qui 
 ont tendance à nous maintenir en bonne santé. La cérémonie de la h
 utte de sudation nous aide à tourner les pages du livre, à mourir à
  hier pour vivre aujourd'hui, c'est un rituel complet bénéfique pour
  les individus et pour le groupe. Avant la cérémonie un thème est p
 roposé.RDV 15 h, fin vers 20 h.Nous préparons le feu et la hutte tou
 s ensemble.Nous clôturons la rencontre par un repas partagé tiré du
  sac.Participation : 35 €.Inscription par mail levequejoel2005@yahoo
 .fr ou au 06 80 46 35 18\n\nPour plus d'information, aller sur https:/
 /epanews.fr/events/hutte-de-sudation-cros-30170
DTSTART;TZID=Europe/Paris:20131116T150000
DTEND;TZID=Europe/Paris:20131116T200000
CATEGORIES:30
LOCATION:Autour des Tambours
WEBSITE:http://www.joel-leveque.com
URL:http://www.joel-leveque.com
CONTACT:0680463518
ORGANIZER;CN=joel:https://epanews.fr/profile/joel495
ATTACH;FMTTYPE="image/jpeg":http://storage.ning.com/topology/rest/1.0/
 file/get/1662949115?profile=original
ATTENDEE;ROLE=REQ-PARTICIPANT;PARTSTAT=ACCEPTED;RSVP=TRUE;CN=joel:http
 s://epanews.fr/profile/joel495
END:VEVENT
END:VCALENDAR
