BEGIN:VCALENDAR
PRODID:NingEventWidget-v1
VERSION:2.0
METHOD:PUBLISH
BEGIN:VTIMEZONE
TZID:Europe/Paris
X-LIC-LOCATION:Europe/Paris
BEGIN:DAYLIGHT
TZOFFSETFROM:+0100
TZOFFSETTO:+0200
TZNAME:CEST
DTSTART:19700329T020000
RRULE:FREQ=YEARLY;BYMONTH=3;BYDAY=-1SU
END:DAYLIGHT
BEGIN:STANDARD
TZOFFSETFROM:+0200
TZOFFSETTO:+0100
TZNAME:CET
DTSTART:19701025T030000
RRULE:FREQ=YEARLY;BYMONTH=10;BYDAY=-1SU
END:STANDARD
END:VTIMEZONE
BEGIN:VEVENT
UID:2485226:Event:2769913
DTSTAMP:20260421T084725Z
SUMMARY:Hypersensible ? Conférence
DESCRIPTION:nouvelle conférence au forum 104 Hypersensible ?\nQu’es
 t ce que l’hypersensibilité, en qui consiste t elle ? Émotions, é
 nergies, pensées collective, aliments, électro-sensibilité ? Vivre 
 avec, s’adapter et s’épanouir… Est-ce une ressource, une chance
 , un potentiel a gérer ?\nLe vendredi  06 janvier 2017 - 19h30 Salle
  Iris paf : 10 €\n\nEt des consultations ou massages le vendredi apr
 ès midi avant la conférence, les samedi, dimanche et lundi.\n\nPour 
 plus d'information, aller sur https://epanews.fr/events/hupersensible-
 conf-rence
DTSTART;TZID=Europe/Paris:20170106T193000
DTEND;TZID=Europe/Paris:20170106T210000
CATEGORIES:75
LOCATION:forum 104
WEBSITE:http://cdacier.free.fr
URL:http://cdacier.free.fr
CONTACT:0612199141
ORGANIZER;CN="Christophe Dacier":https://epanews.fr/profile/Christophe
 Dacier
ATTACH;FMTTYPE="image/jpeg":http://storage.ning.com/topology/rest/1.0/
 file/get/1663633578?profile=original
ATTENDEE;ROLE=REQ-PARTICIPANT;PARTSTAT=ACCEPTED;RSVP=TRUE;CN="Christop
 he Dacier":https://epanews.fr/profile/ChristopheDacier
END:VEVENT
END:VCALENDAR
