BEGIN:VCALENDAR
PRODID:NingEventWidget-v1
VERSION:2.0
METHOD:PUBLISH
BEGIN:VTIMEZONE
TZID:Europe/Paris
X-LIC-LOCATION:Europe/Paris
BEGIN:DAYLIGHT
TZOFFSETFROM:+0100
TZOFFSETTO:+0200
TZNAME:CEST
DTSTART:19700329T020000
RRULE:FREQ=YEARLY;BYMONTH=3;BYDAY=-1SU
END:DAYLIGHT
BEGIN:STANDARD
TZOFFSETFROM:+0200
TZOFFSETTO:+0100
TZNAME:CET
DTSTART:19701025T030000
RRULE:FREQ=YEARLY;BYMONTH=10;BYDAY=-1SU
END:STANDARD
END:VTIMEZONE
BEGIN:VEVENT
UID:2485226:Event:217098
DTSTAMP:20260423T194254Z
SUMMARY:HO'OPONOPONO  \"Un chemin vers la Conscience\" (Stage de 2 jou
 rs)
DESCRIPTION:http://www.mercijetaime.fr\n \nPrix: 220 euros les deux j
 ours.\nChômeurs et étudiants: 180 euros\n\nPour plus d'information, 
 aller sur https://epanews.fr/events/hooponopono-un-chemin-vers-la-5
DTSTART;TZID=Europe/Paris:20110319T090000
DTEND;TZID=Europe/Paris:20110320T170000
CATEGORIES:34
LOCATION:BEZIERS
WEBSITE:http://www.mercijetaime.fr  et www.eveiletsante.fr
URL:http://www.mercijetaime.fr  et www.eveiletsante.fr
CONTACT:04 67 39 12 74
ORGANIZER;CN="Maria-Elisa Hurtado-Graciet":https://epanews.fr/profile/
 MariaElisaGracietHurtado
ATTACH;FMTTYPE="image/jpeg":http://storage.ning.com/topology/rest/1.0/
 file/get/1662394027?profile=original
ATTENDEE;ROLE=REQ-PARTICIPANT;PARTSTAT=ACCEPTED;RSVP=TRUE;CN="Maria-El
 isa Hurtado-Graciet":https://epanews.fr/profile/MariaElisaGracietHurta
 do
END:VEVENT
END:VCALENDAR
