BEGIN:VCALENDAR
PRODID:NingEventWidget-v1
VERSION:2.0
METHOD:PUBLISH
BEGIN:VTIMEZONE
TZID:Europe/Paris
X-LIC-LOCATION:Europe/Paris
BEGIN:DAYLIGHT
TZOFFSETFROM:+0100
TZOFFSETTO:+0200
TZNAME:CEST
DTSTART:19700329T020000
RRULE:FREQ=YEARLY;BYMONTH=3;BYDAY=-1SU
END:DAYLIGHT
BEGIN:STANDARD
TZOFFSETFROM:+0200
TZOFFSETTO:+0100
TZNAME:CET
DTSTART:19701025T030000
RRULE:FREQ=YEARLY;BYMONTH=10;BYDAY=-1SU
END:STANDARD
END:VTIMEZONE
BEGIN:VEVENT
UID:2485226:Event:2622577
DTSTAMP:20260422T184122Z
SUMMARY:hommage Ã  ThÃ©rÃ¨se Clerc
DESCRIPTION:hÃ©rÃ¨se Clerc nous a quittÃ©s le 16 FÃ©vrier dernier\nÂ \
 nÂ \nCette grande fÃ©ministe, chevalier de la lÃ©gion d'honneur, avait
  fondÃ© au dÃ©but des annÃ©es 2000 la Maison des Babayagas Ã  Montreui
 l. Un modÃ¨le unique de maison de retraite communautaire, solidaire et
  autogÃ©rÃ©e, qu'elle m'incitait depuis 2012 Ã  transposer Ã  Bagneux.
  Au delÃ  des paroles d'encouragement, ThÃ©rÃ¨se s'Ã©tait dÃ©placÃ©e Ã
   Bagneux pour participer aux premiÃ¨res rÃ©unions avec les Ã©lus qui 
 ont permis de faire germer son idÃ©e dans notre ville.\nSon concept pr
 incipal \"la citoyennetÃ© Ã  part entiÃ¨re\" n'a cessÃ© de faire son c
 hemin et nous le dÃ©fendrons Ã  travers les diffÃ©rents projets en cou
 rs dans notre communeÂ :\nÂ \nla crÃ©ation d'un espace de rencontres p
 our les seniors a\nÂ la mise en place d'un conseil des anciens,\nhabit
 at participatif dans un nouveau quartier de la ville...\nNotre prochai
 ne rÃ©union mensuelle (le 19 avril Ã  19h30, au foyer Coudon) sera l'o
 ccasion de nous recueillir en mÃ©moire de cette grande dame et de cont
 inuer son Å“uvre.\nÂ \nÂ \n\nPour plus d'information, aller sur https:
 //epanews.fr/events/hommage-th-r-se-clerc
DTSTART;TZID=Europe/Paris:20160419T191500
DTEND;TZID=Europe/Paris:20160419T203000
CATEGORIES:92
LOCATION:le Foyer Coudon
WEBSITE:
URL:
CONTACT:06 12 06 53 47
ORGANIZER;CN=lasur:https://epanews.fr/profile/lasur656
ATTACH;FMTTYPE="image/jpeg":http://storage.ning.com/topology/rest/1.0/
 file/get/1663550217?profile=original
ATTENDEE;ROLE=REQ-PARTICIPANT;PARTSTAT=ACCEPTED;RSVP=TRUE;CN=lasur:htt
 ps://epanews.fr/profile/lasur656
END:VEVENT
END:VCALENDAR
