BEGIN:VCALENDAR
PRODID:NingEventWidget-v1
VERSION:2.0
METHOD:PUBLISH
BEGIN:VTIMEZONE
TZID:Europe/Paris
X-LIC-LOCATION:Europe/Paris
BEGIN:DAYLIGHT
TZOFFSETFROM:+0100
TZOFFSETTO:+0200
TZNAME:CEST
DTSTART:19700329T020000
RRULE:FREQ=YEARLY;BYMONTH=3;BYDAY=-1SU
END:DAYLIGHT
BEGIN:STANDARD
TZOFFSETFROM:+0200
TZOFFSETTO:+0100
TZNAME:CET
DTSTART:19701025T030000
RRULE:FREQ=YEARLY;BYMONTH=10;BYDAY=-1SU
END:STANDARD
END:VTIMEZONE
BEGIN:VEVENT
UID:2485226:Event:134590
DTSTAMP:20260420T033400Z
SUMMARY:Histroire de pieds !
DESCRIPTION:Nos pieds, nos RACINES, notre PRISE de TERRE, essentiel po
 ur nous supporter, nous permettre d'avancer...\nVenez dĂ©couvrir comme
 nt en prendre soin...\n\nDes exercices, situations que vous pourrez ut
 iliser dans votre QUOTIDIEN..\n\ninscription obligatoire. place limitĂ
 ©es.\nTarif Atelier 12 â‚¬\nPour les non adhĂ©rents : AdhĂ©sion annuel
 le Ă  l'Association Pas Sage de 10â‚¬ par an donnant droit Ă  particip
 er Ă  toutes les activitĂ©s.\n\nPour plus d'information, aller sur htt
 ps://epanews.fr/events/histroire-de-pieds
DTSTART;TZID=Europe/Paris:20101102T180000
DTEND;TZID=Europe/Paris:20101102T200000
CATEGORIES:11
LOCATION:Parc des Sports Ă  Narbonne
WEBSITE:http://www.lamarche-autrement.com ou www.association-pas-sage.
 fr
URL:http://www.lamarche-autrement.com ou www.association-pas-sage.fr
CONTACT:06 81 09 15 78
ORGANIZER;CN="GAUBERT Isabelle":https://epanews.fr/profile/GAUBERTIsab
 elle
ATTACH;FMTTYPE="image/jpeg":http://storage.ning.com/topology/rest/1.0/
 file/get/1662348944?profile=original
ATTENDEE;ROLE=REQ-PARTICIPANT;PARTSTAT=ACCEPTED;RSVP=TRUE;CN="GAUBERT 
 Isabelle":https://epanews.fr/profile/GAUBERTIsabelle
ATTENDEE;ROLE=REQ-PARTICIPANT;PARTSTAT=TENTATIVE;RSVP=TRUE;CN=mumucast
 agnette:https://epanews.fr/profile/mumucastagnette
ATTENDEE;ROLE=REQ-PARTICIPANT;PARTSTAT=TENTATIVE;RSVP=TRUE;CN=nadia:ht
 tps://epanews.fr/profile/nadia
END:VEVENT
END:VCALENDAR
