BEGIN:VCALENDAR
PRODID:NingEventWidget-v1
VERSION:2.0
METHOD:PUBLISH
BEGIN:VTIMEZONE
TZID:Europe/Paris
X-LIC-LOCATION:Europe/Paris
BEGIN:DAYLIGHT
TZOFFSETFROM:+0100
TZOFFSETTO:+0200
TZNAME:CEST
DTSTART:19700329T020000
RRULE:FREQ=YEARLY;BYMONTH=3;BYDAY=-1SU
END:DAYLIGHT
BEGIN:STANDARD
TZOFFSETFROM:+0200
TZOFFSETTO:+0100
TZNAME:CET
DTSTART:19701025T030000
RRULE:FREQ=YEARLY;BYMONTH=10;BYDAY=-1SU
END:STANDARD
END:VTIMEZONE
BEGIN:VEVENT
UID:2485226:Event:2699111
DTSTAMP:20260421T172938Z
SUMMARY:Heartfulness - la mÃ©ditation du coeur
DESCRIPTION:ATELIER HEARTFULNESS\nApprendre Ã  mÃ©diter.\nUne seule so
 lution, expÃ©rimenter et apprÃ©cier par vous-mÃªme.\nVous Ãªtes les bi
 envenus Ã  venir expÃ©rimenter la relaxation mÃ©ditation Heartfulness 
 dite mÃ©ditation en pleine conscience du cÅ“ur.\nCette pratique trÃ¨s 
 facile Ã  mettre en Å“uvre dans votre vie quotidienne est un outil trÃ
 ¨s efficace pour rÃ©duire le stress et rÃ©duire lâ€™agitation mentale.
 \nCette pratique trÃ¨s facile Ã  mettre en Å“uvre dans votre vie quoti
 dienne est un outil trÃ¨s efficace pour rÃ©duire le stress et lâ€™agit
 ation mentale afin de retrouver calme et tranquillitÃ©.\nCes sÃ©ances 
 sont organisÃ©es tous les derniers samedis de chaque mois, Ã  10h00 au
  Centre Heartfulness de Toulon.\nExpÃ©rimentation avec entrÃ©e libre, 
 gratuite et sans aucun autre engagement que votre sincÃ¨re aspiration 
 Ã  vous connecter avec votre vÃ©ritable Etre intÃ©rieur.\n\"Changer vo
 us vous-mÃªme et le monde changeras...\"\n\n\nPour plus d'information,
  aller sur https://epanews.fr/events/heartfulness-la-m-ditation-du-coe
 ur-1
DTSTART;TZID=Europe/Paris:20160827T214500
DTEND;TZID=Europe/Paris:20160827T233000
CATEGORIES:83
LOCATION:Centre Heartfulness
WEBSITE:
URL:
CONTACT:0661129157
ORGANIZER;CN=coeur:https://epanews.fr/profile/coeur355
ATTACH;FMTTYPE="image/jpeg":http://storage.ning.com/topology/rest/1.0/
 file/get/1663595439?profile=original
ATTENDEE;ROLE=REQ-PARTICIPANT;PARTSTAT=ACCEPTED;RSVP=TRUE;CN=coeur:htt
 ps://epanews.fr/profile/coeur355
END:VEVENT
END:VCALENDAR
