BEGIN:VCALENDAR
PRODID:NingEventWidget-v1
VERSION:2.0
METHOD:PUBLISH
BEGIN:VTIMEZONE
TZID:Europe/Paris
X-LIC-LOCATION:Europe/Paris
BEGIN:DAYLIGHT
TZOFFSETFROM:+0100
TZOFFSETTO:+0200
TZNAME:CEST
DTSTART:19700329T020000
RRULE:FREQ=YEARLY;BYMONTH=3;BYDAY=-1SU
END:DAYLIGHT
BEGIN:STANDARD
TZOFFSETFROM:+0200
TZOFFSETTO:+0100
TZNAME:CET
DTSTART:19701025T030000
RRULE:FREQ=YEARLY;BYMONTH=10;BYDAY=-1SU
END:STANDARD
END:VTIMEZONE
BEGIN:VEVENT
UID:2485226:Event:181151
DTSTAMP:20260424T171643Z
SUMMARY:harmonisation Ã©nergÃ©tique, vers l'Ã©quilibre corps-Ã¢me-espr
 it
DESCRIPTION:CrÃ©ateur de l'association \"l'Art pour Mieux-Etre\", Phil
 ippe Henry a mis en forme un accompagnement personnalisÃ© au dÃ©velopp
 ement personnel rÃ©pondant Ã  plusieurs types de besoins: formation pr
 atique au magnÃ©tisme (bilan Ã©nergÃ©tique, rÃ©Ã©quilibrage par les ma
 ins et le cristal), pratique de la visualisation pour apprendre Ã  se 
 nourrir sur tous les plans, aide ponctuelle.\nCes activitÃ©s fonctionn
 ent chaque vendredi Ã  Montpellier au centre 665, sous forme d'atelier
 s de groupe, de sÃ©ances individuelles et d'entretiens.\nLa confÃ©renc
 e prÃ©sentera les diffÃ©rents outils utilisÃ©s pour aborder les Ã©nerg
 ies vitales, Ã©motionnelles, relationnelles, spirituelles, et abordera
  les thÃ¨mes de l'incarnation, de la mission de l'Ã¢me, de la vie aprÃ
 ¨s la mort...\nCette pratique issue de la tradition essÃ©nienne, s'app
 uie sur les travaux de Barbara Ann Brennan et d'Anne Givaudan, sur la 
 \"lecture psychique\", et sur la lithothÃ©rapie (rÃ©Ã©quilibrage par l
 e cristal de roche).\nPAF: 5 euros\n\nPour plus d'information, aller s
 ur https://epanews.fr/events/harmonisation-energetique-vers
DTSTART;TZID=Europe/Paris:20110114T203000
DTEND;TZID=Europe/Paris:20110114T230000
CATEGORIES:34
LOCATION:Montpellier
WEBSITE:http://maps.google.com/maps?f=q&source=s_q&hl=fr&geocode=&q=66
 5+Route+de+Mende,+Montpellier,+France&sll=37.0625,-95.677068&sspn=47.4
 35825,79.013672&ie=UTF8&hq=&hnear=665+Route+de+Mende,+34090+Montpellie
 r,+H%C3%A9rault,+Languedoc-Roussillon,+France&ll=43.625234,3.868604&sp
 n=0.021311,0.038581&z=15
URL:http://maps.google.com/maps?f=q&source=s_q&hl=fr&geocode=&q=665+Ro
 ute+de+Mende,+Montpellier,+France&sll=37.0625,-95.677068&sspn=47.43582
 5,79.013672&ie=UTF8&hq=&hnear=665+Route+de+Mende,+34090+Montpellier,+H
 %C3%A9rault,+Languedoc-Roussillon,+France&ll=43.625234,3.868604&spn=0.
 021311,0.038581&z=15
CONTACT:04 67 59 70 63 / 06 21 76 59 81
ORGANIZER;CN=Henry:https://epanews.fr/profile/PhilippeHENRY
ATTACH;FMTTYPE="image/jpeg":http://storage.ning.com/topology/rest/1.0/
 file/get/1662371814?profile=original
ATTENDEE;ROLE=REQ-PARTICIPANT;PARTSTAT=ACCEPTED;RSVP=TRUE;CN=Henry:htt
 ps://epanews.fr/profile/PhilippeHENRY
END:VEVENT
END:VCALENDAR
