BEGIN:VCALENDAR
PRODID:NingEventWidget-v1
VERSION:2.0
METHOD:PUBLISH
BEGIN:VTIMEZONE
TZID:Europe/Paris
X-LIC-LOCATION:Europe/Paris
BEGIN:DAYLIGHT
TZOFFSETFROM:+0100
TZOFFSETTO:+0200
TZNAME:CEST
DTSTART:19700329T020000
RRULE:FREQ=YEARLY;BYMONTH=3;BYDAY=-1SU
END:DAYLIGHT
BEGIN:STANDARD
TZOFFSETFROM:+0200
TZOFFSETTO:+0100
TZNAME:CET
DTSTART:19701025T030000
RRULE:FREQ=YEARLY;BYMONTH=10;BYDAY=-1SU
END:STANDARD
END:VTIMEZONE
BEGIN:VEVENT
UID:2485226:Event:2702815
DTSTAMP:20260420T171657Z
SUMMARY:Jacques Martel auteur du \"Grand Dictionnaire des Malaises et 
 des Maladies\" sera sur Paris le 26 septembre 2016
DESCRIPTION:\n\nPour plus d'information, aller sur https://epanews.fr/
 events/harmonie-et-conscience-invite-jacques-martel-auteur-du-best
DTSTART;TZID=Europe/Paris:20160926T183000
DTEND;TZID=Europe/Paris:20160926T223000
CATEGORIES:75
LOCATION:Paris 6ème
WEBSITE:http://www.harmonie-et-conscience.com
URL:http://www.harmonie-et-conscience.com
CONTACT:06 74 50 62 68
ORGANIZER;CN="Harmonie et Conscience":https://epanews.fr/profile/Harmo
 nieetConscience
ATTACH;FMTTYPE="image/jpeg":http://storage.ning.com/topology/rest/1.0/
 file/get/1663597497?profile=original
ATTENDEE;ROLE=REQ-PARTICIPANT;PARTSTAT=ACCEPTED;RSVP=TRUE;CN="Harmonie
  et Conscience":https://epanews.fr/profile/HarmonieetConscience
END:VEVENT
END:VCALENDAR
