BEGIN:VCALENDAR
PRODID:NingEventWidget-v1
VERSION:2.0
METHOD:PUBLISH
BEGIN:VTIMEZONE
TZID:Europe/Paris
X-LIC-LOCATION:Europe/Paris
BEGIN:DAYLIGHT
TZOFFSETFROM:+0100
TZOFFSETTO:+0200
TZNAME:CEST
DTSTART:19700329T020000
RRULE:FREQ=YEARLY;BYMONTH=3;BYDAY=-1SU
END:DAYLIGHT
BEGIN:STANDARD
TZOFFSETFROM:+0200
TZOFFSETTO:+0100
TZNAME:CET
DTSTART:19701025T030000
RRULE:FREQ=YEARLY;BYMONTH=10;BYDAY=-1SU
END:STANDARD
END:VTIMEZONE
BEGIN:VEVENT
UID:2485226:Event:720539
DTSTAMP:20260422T015739Z
SUMMARY:Bien dans mon corps
DESCRIPTION:Samedi 17 Mars 2012, 9h/19h | journÃ©e conviviale au CREPS
  Ã  MONTPELLIER\n Bien dans mon corps\n10 intervenants professionnels\
 nNotre corps ne manquerait-il pas de considÃ©ration dans notre sociÃ©t
 Ã© de plus en plus virtuelle ?\nA la fois vÃ©hicule vivant et mÃ©moris
 ant, il est aussi une vÃ©ritable \"interface interactive\" dont le mod
 e d'emploi est Ã  dÃ©couvrir par chacun tout au long de sa vie. Cette 
 nouvelle journÃ©e conviviale et riche de l'association montpelliÃ©rain
 e HappyPlanet Days est ouverte Ã  tous, pratiquant ou pas une techniqu
 e de bien-Ãªtre ou de connaissance corporelle.\nSont abordÃ©s cette fo
 is : la mÃ©thode Pilates, la chiropratique, le massage assis, des tech
 niques vocales, la naturopathie, la biodanza. Avec, notamment, la prÃ©
 sence exceptionnelle de Jacques FERBER, professeur universitaire, aute
 ur de \"L'amant tantrique\", et le retour de Miss Titanic accompagnÃ©e
  de ses amis clowns.\nCREPS, 2 Avenue Charles Flahault MONTPELLIER Phi
 lippidÃ¨s La journÃ©e complÃ¨te : public 24 â‚¬ | adhÃ©rent 18 â‚¬ Sur
  rÃ©servation uniquement : www.happyplanetdays.com Programme dÃ©taillÃ
 © : http://www.happyplanetdays.com/evenement-98.html\n ===\nLe dÃ©roul
 ement\n09h00 Croissanterie & boissons chaudes 09h30 DÃ©couverte de la 
 mÃ©thode Pilates Sabine VICTORIA, Educatrice sportive DE 10h30 La chir
 opratique pour le bien-Ãªtre Martin AVIAS, docteur en chiropratique 11
 h30 Le corps accord Jean-Marie FRAPPEREAU, ostÃ©opathie 12h00 pique-ni
 que tirÃ© du sac 13h15 La sieste poÃ©tique Sabine LEVEQUE, professeure
  de thÃ©Ã¢tre 13h30 Ã©change Partagez votre livre prÃ©fÃ©rÃ© 13h45 Exp
 Ã©rimentez le massage assis ! HervÃ© GALINIE, praticien de massage (di
 sponible aussi en journÃ©e) 14h00 Le corps en relation Jacques FERBER,
  professeur universitaire 16h00 GoÃ»ter Servi par le HappyStaff 16h30 
 Voix d'ancrage Crissoula PANTELOS, formÃ©e en art-thÃ©rapie, ou, au ch
 oix : 16h30 Les bienfaits de la lumiÃ¨re Yves CASSARD, naturopathe dip
 lÃ´mÃ© CENA 17h30 La Biodanza Patricia HENOCQUE, animatrice Biodanza 1
 8h15 Surprise ! Miss TITANIC, clown humaniste ...et son Ã©quipe ! 18h3
 0 Partage Comment vous sentez-vous ?\n\nPour plus d'information, aller
  sur https://epanews.fr/events/happyjourn-e-11-bien-dans-son-corps
DTSTART;TZID=Europe/Paris:20120317T000000
DTEND;TZID=Europe/Paris:20120317T235900
CATEGORIES:34
LOCATION:Montpellier
WEBSITE:http://www.happyplanetdays.com/evenement-98.html
URL:http://www.happyplanetdays.com/evenement-98.html
CONTACT:06 32 08 51 58
ORGANIZER;CN="Franck Dagorn":https://epanews.fr/profile/FranckDagorn
ATTACH;FMTTYPE="image/jpeg":http://storage.ning.com/topology/rest/1.0/
 file/get/1662567081?profile=original
ATTENDEE;ROLE=REQ-PARTICIPANT;PARTSTAT=ACCEPTED;RSVP=TRUE;CN="Franck D
 agorn":https://epanews.fr/profile/FranckDagorn
END:VEVENT
END:VCALENDAR
