BEGIN:VCALENDAR
PRODID:NingEventWidget-v1
VERSION:2.0
METHOD:PUBLISH
BEGIN:VTIMEZONE
TZID:Europe/Paris
X-LIC-LOCATION:Europe/Paris
BEGIN:DAYLIGHT
TZOFFSETFROM:+0100
TZOFFSETTO:+0200
TZNAME:CEST
DTSTART:19700329T020000
RRULE:FREQ=YEARLY;BYMONTH=3;BYDAY=-1SU
END:DAYLIGHT
BEGIN:STANDARD
TZOFFSETFROM:+0200
TZOFFSETTO:+0100
TZNAME:CET
DTSTART:19701025T030000
RRULE:FREQ=YEARLY;BYMONTH=10;BYDAY=-1SU
END:STANDARD
END:VTIMEZONE
BEGIN:VEVENT
UID:2485226:Event:45329
DTSTAMP:20260421T102412Z
SUMMARY:Gymnastique sensorielle
DESCRIPTION:*Le café des créatifs culturels:\n\njeudi 15 avril 19h30
  avec Marie-Thérèse Ausset\nAtelier de gymnastique sensorielle:\n\"a
 pprendre et grandir en conscience de soi à partir d'un vécu corporel
 .\"\ns'inscrire au 06 29 55 04 08 paf 5€ max 10 personnes\n\nPour pl
 us d'information, aller sur https://epanews.fr/events/gymnastique-sens
 orielle
DTSTART;TZID=Europe/Paris:20100415T193000
DTEND;TZID=Europe/Paris:20100415T220000
CATEGORIES:13, 30, 34, 84
LOCATION:Galerie associative \"chez moi, chez toi\"
WEBSITE:http://2Bao30.blogspot.com
URL:http://2Bao30.blogspot.com
CONTACT:06 29 55 04 08
ORGANIZER:Association « de Bouche à Oreilles »
ATTACH;FMTTYPE="image/jpeg":http://storage.ning.com/topology/rest/1.0/
 file/get/1662294792?profile=original
ATTENDEE;ROLE=REQ-PARTICIPANT;PARTSTAT=ACCEPTED;RSVP=TRUE;CN="alain ll
 oria":https://epanews.fr/profile/alainlloria
END:VEVENT
END:VCALENDAR
