BEGIN:VCALENDAR
PRODID:NingEventWidget-v1
VERSION:2.0
METHOD:PUBLISH
BEGIN:VTIMEZONE
TZID:Europe/Paris
X-LIC-LOCATION:Europe/Paris
BEGIN:DAYLIGHT
TZOFFSETFROM:+0100
TZOFFSETTO:+0200
TZNAME:CEST
DTSTART:19700329T020000
RRULE:FREQ=YEARLY;BYMONTH=3;BYDAY=-1SU
END:DAYLIGHT
BEGIN:STANDARD
TZOFFSETFROM:+0200
TZOFFSETTO:+0100
TZNAME:CET
DTSTART:19701025T030000
RRULE:FREQ=YEARLY;BYMONTH=10;BYDAY=-1SU
END:STANDARD
END:VTIMEZONE
BEGIN:VEVENT
UID:2485226:Event:1421616
DTSTAMP:20260422T014341Z
SUMMARY:guÃ©rir avec la puissance infinie de l'amour sans condition
DESCRIPTION:Lien d'infos\nhttp://www.divine-attitude.org/vie/paris-ate
 06-13.pdf\nnon dualitÃ© : des rencontres sur l'Ã©veil, la conscience, 
 lâ€™amour, l'unitÃ©â€¦\natelier expÃ©rientiel avec initiation aux soin
 s de lumiÃ¨re*\nÂ« s'abandonner a l'amour inconditionnel Â»\n* guÃ©rir
  par la lumiÃ¨re permet de guÃ©rir et de se guÃ©rir avec la puissance 
 infinie de lâ€™amour :\npuisque lâ€™amour inclut ce quâ€™il Ã©coute da
 ns la non-dualitÃ©, dans lâ€™unitÃ©â€¦ câ€™est simplement guÃ©rir de l
 â€™illusion de la sÃ©paration, câ€™est guÃ©rir de la dualitÃ©, par sim
 ple reconnaissance de son essence en soi. câ€™est se reconnaÃ®tre comm
 e crÃ©ateur et prendre enfin son autonomie ainsi que la responsabilitÃ
 © de son bonheur !\n\nPour plus d'information, aller sur https://epane
 ws.fr/events/gu-rir-avec-la-puissance-infinie-de-l-amour-sans-conditio
 n-1
DTSTART;TZID=Europe/Paris:20130629T000000
DTEND;TZID=Europe/Paris:20130630T235900
CATEGORIES:75
LOCATION:Paris : 18 rue Duhesme : Les miroirs de l'Ame
WEBSITE:http://www.divine-attitude.org/vie/paris-ate06-13.pdf
URL:http://www.divine-attitude.org/vie/paris-ate06-13.pdf
CONTACT:0660119982
ORGANIZER;CN=Bhaktashanti:https://epanews.fr/profile/BrunoBerthelot
ATTACH;FMTTYPE="image/jpeg":http://storage.ning.com/topology/rest/1.0/
 file/get/1662870715?profile=original
ATTENDEE;ROLE=REQ-PARTICIPANT;PARTSTAT=ACCEPTED;RSVP=TRUE;CN=Bhaktasha
 nti:https://epanews.fr/profile/BrunoBerthelot
END:VEVENT
END:VCALENDAR
