BEGIN:VCALENDAR
PRODID:NingEventWidget-v1
VERSION:2.0
METHOD:PUBLISH
BEGIN:VTIMEZONE
TZID:Europe/Paris
X-LIC-LOCATION:Europe/Paris
BEGIN:DAYLIGHT
TZOFFSETFROM:+0100
TZOFFSETTO:+0200
TZNAME:CEST
DTSTART:19700329T020000
RRULE:FREQ=YEARLY;BYMONTH=3;BYDAY=-1SU
END:DAYLIGHT
BEGIN:STANDARD
TZOFFSETFROM:+0200
TZOFFSETTO:+0100
TZNAME:CET
DTSTART:19701025T030000
RRULE:FREQ=YEARLY;BYMONTH=10;BYDAY=-1SU
END:STANDARD
END:VTIMEZONE
BEGIN:VEVENT
UID:2485226:Event:2181086
DTSTAMP:20260426T042556Z
SUMMARY:Groupe philosophique mensuel à Brest
DESCRIPTION:Bonjour, je vous invite à participer à cette soirée phi
 losophique dans un cadre chaleureux et convivial, animée par un ami a
 ux multiples talents et connaissances.\nLe thème : \" Connaissance de
  soi, connaissance de l'autre\"\nBienvenue à vous !\nMerci de me cont
 acter  ( jusqu'au jour-même ) si vous êtes intéressés, que je pui
 sse m'organiser\nCarole : 06 32 51 59 44\n\nPour plus d'information, a
 ller sur https://epanews.fr/events/groupe-philosophique-mensuel-brest-
 1
DTSTART;TZID=Europe/Paris:20150213T193000
DTEND;TZID=Europe/Paris:20150213T210000
CATEGORIES:29
LOCATION:Brest centre ( Pilier rouge )
WEBSITE:
URL:
CONTACT:06 32 51 59 44
ORGANIZER;CN=CaroleB:https://epanews.fr/profile/CaroleB14
ATTACH;FMTTYPE="image/jpeg":http://storage.ning.com/topology/rest/1.0/
 file/get/1663300139?profile=original
ATTENDEE;ROLE=REQ-PARTICIPANT;PARTSTAT=ACCEPTED;RSVP=TRUE;CN=CaroleB:h
 ttps://epanews.fr/profile/CaroleB14
END:VEVENT
END:VCALENDAR
