BEGIN:VCALENDAR
PRODID:NingEventWidget-v1
VERSION:2.0
METHOD:PUBLISH
BEGIN:VTIMEZONE
TZID:Europe/Paris
X-LIC-LOCATION:Europe/Paris
BEGIN:DAYLIGHT
TZOFFSETFROM:+0100
TZOFFSETTO:+0200
TZNAME:CEST
DTSTART:19700329T020000
RRULE:FREQ=YEARLY;BYMONTH=3;BYDAY=-1SU
END:DAYLIGHT
BEGIN:STANDARD
TZOFFSETFROM:+0200
TZOFFSETTO:+0100
TZNAME:CET
DTSTART:19701025T030000
RRULE:FREQ=YEARLY;BYMONTH=10;BYDAY=-1SU
END:STANDARD
END:VTIMEZONE
BEGIN:VEVENT
UID:2485226:Event:2706627
DTSTAMP:20260421T155700Z
SUMMARY:groupe de paroles et d'Ã©coutes hommes - Montpellier
DESCRIPTION:Bonjour,\nGroupe de paroles d'hommes en activitÃ© Ã  Montp
 ellier ouvre son cercle a de nouveaux hommes, ce groupe est un espace 
 d'expression par la parole dans le respect, la confidentialitÃ©, l'Ã©c
 oute et le non jugement,dans la lignÃ©e des groupes de paroles inspirÃ
 © par Guy Corneau.\nOuvert Ã  tous et intergÃ©nÃ©rationnel (une contri
 bution de 15â‚¬ pour la salle Ã  l'annÃ©e). Les rÃ©unions ont lieu tou
 s les 15 jours en soirÃ©e Ã  Montpellier.\nme contacter pour plus d'in
 fos. Marc 06 70 96 60 13\n\nPour plus d'information, aller sur https:/
 /epanews.fr/events/groupe-de-paroles-et-d-coutes-hommes-montpellier
DTSTART;TZID=Europe/Paris:20160908T180000
DTEND;TZID=Europe/Paris:20160908T190000
CATEGORIES:34
LOCATION:Montepllier
WEBSITE:
URL:
CONTACT:0670966013
ORGANIZER;CN=marc:https://epanews.fr/profile/marctamisier
ATTACH;FMTTYPE="image/jpeg":http://storage.ning.com/topology/rest/1.0/
 file/get/1663597569?profile=original
ATTENDEE;ROLE=REQ-PARTICIPANT;PARTSTAT=ACCEPTED;RSVP=TRUE;CN=marc:http
 s://epanews.fr/profile/marctamisier
ATTENDEE;ROLE=REQ-PARTICIPANT;PARTSTAT=TENTATIVE;RSVP=TRUE;CN=Oicangi:
 https://epanews.fr/profile/Oicangi
END:VEVENT
END:VCALENDAR
