BEGIN:VCALENDAR
PRODID:NingEventWidget-v1
VERSION:2.0
METHOD:PUBLISH
BEGIN:VTIMEZONE
TZID:Europe/Paris
X-LIC-LOCATION:Europe/Paris
BEGIN:DAYLIGHT
TZOFFSETFROM:+0100
TZOFFSETTO:+0200
TZNAME:CEST
DTSTART:19700329T020000
RRULE:FREQ=YEARLY;BYMONTH=3;BYDAY=-1SU
END:DAYLIGHT
BEGIN:STANDARD
TZOFFSETFROM:+0200
TZOFFSETTO:+0100
TZNAME:CET
DTSTART:19701025T030000
RRULE:FREQ=YEARLY;BYMONTH=10;BYDAY=-1SU
END:STANDARD
END:VTIMEZONE
BEGIN:VEVENT
UID:2485226:Event:475654
DTSTAMP:20260422T181756Z
SUMMARY:Groupe de Paroles de Femmes
DESCRIPTION:Soirée d'information et de présentation  pour constitut
 ion d'un Groupe de paroles de Femmes afin de vous inviter à honorer v
 otre pouvoir intérieur ...\n+ d'infos : art-gaia-et-cercles-de-lune\n
 \nPour plus d'information, aller sur https://epanews.fr/events/groupe-
 de-paroles-de-femmes
DTSTART;TZID=Europe/Paris:20110920T180000
DTEND;TZID=Europe/Paris:20110920T190000
CATEGORIES:69
LOCATION:lyon
WEBSITE:
URL:
CONTACT:06 10 33 98 19
ORGANIZER;CN="chantal garcia":https://epanews.fr/profile/chantalgarcia
ATTACH;FMTTYPE="image/jpeg":
ATTENDEE;ROLE=REQ-PARTICIPANT;PARTSTAT=ACCEPTED;RSVP=TRUE;CN=Lovyves:h
 ttps://epanews.fr/profile/Lovyves
ATTENDEE;ROLE=REQ-PARTICIPANT;PARTSTAT=ACCEPTED;RSVP=TRUE;CN="chantal 
 garcia":https://epanews.fr/profile/chantalgarcia
END:VEVENT
END:VCALENDAR
