BEGIN:VCALENDAR
PRODID:NingEventWidget-v1
VERSION:2.0
METHOD:PUBLISH
BEGIN:VTIMEZONE
TZID:Europe/Paris
X-LIC-LOCATION:Europe/Paris
BEGIN:DAYLIGHT
TZOFFSETFROM:+0100
TZOFFSETTO:+0200
TZNAME:CEST
DTSTART:19700329T020000
RRULE:FREQ=YEARLY;BYMONTH=3;BYDAY=-1SU
END:DAYLIGHT
BEGIN:STANDARD
TZOFFSETFROM:+0200
TZOFFSETTO:+0100
TZNAME:CET
DTSTART:19701025T030000
RRULE:FREQ=YEARLY;BYMONTH=10;BYDAY=-1SU
END:STANDARD
END:VTIMEZONE
BEGIN:VEVENT
UID:2485226:Event:2426038
DTSTAMP:20260423T123645Z
SUMMARY:Groupe de paroles d'homme
DESCRIPTION:La Tente Blanche est le nom de ceÂ groupe dâ€™Hommes qui e
 st un cercle de partages autogÃ©rÃ©. Il est gratuit et ouvert Ã  tous,
  pour se retrouver dans lâ€™Ã©nergie de lâ€™homme, sâ€™exprimer et sâ€
 ™Ã©couter. Le temps disponible est rÃ©parti suivant le nombre de parti
 cipants, et chacun peut y vivre ce dont il a besoin : parler de soi, p
 roposer une expÃ©rience (danse, chant, rituelâ€¦), poser une demande e
 t recevoir du groupe (parole, rÃ©sonances, conseils, massageâ€¦) et au
 tres. Câ€™est un espace de crÃ©ativitÃ©, dâ€™expression et de ressourc
 ement, en partage fraternel. Tout vÃ©cu personnel y est le bienvenu. L
 e contenu de chaque rencontre dÃ©pend donc de ce qui est partagÃ© etÂ 
 de lâ€™implication de chacun. Un cadre de confidentialitÃ©, de respect
  et bienveillance est tenu par deux participants. Ils en sont les faci
 litateurs, pas les animateurs, car la Tente Blanche nâ€™est pas un gro
 upe de thÃ©rapie animÃ©e par des thÃ©rapeutes. La Tente Blanche est en
  lien avec le soleil : elle se rÃ©unit une fois par mois Ã  chaque cha
 ngement de signe solaire zodiacal.  Nous encourageons lâ€™ouverture dâ
 €™autres tentes blanches, avec dâ€™autres hommesâ€¦ Une charte est Ã  
 leur disposition pour soutenir ses projets ! La liste des tentes exist
 antes, et autres docs sur notre site :Â http://tente-blanche.jimdo.com
 /\n Prochaine Tente Blanche : Lundi 28 septembre Ã  20H00 Lieu : Antib
 es Bien-Ãªtre et soin 13 Av Guillabert - RÃ©sid Les Bleuets - Bat B 06
 600 Antibes  RDV A 20h00 pendant deux heures, collation partagÃ©es en 
 fin de soirÃ©e. Participation gratuite. Inscription souhaitÃ©e pour ch
 aque soirÃ©e.  Contact : Pascal VERGNES (06.14.62.69.69) Michael GALLA
 SCH (06.62.59.56.44) tenteblanche.sudest@gmail.com\nSite des tentes bl
 anches en France\n\nPour plus d'information, aller sur https://epanews
 .fr/events/groupe-de-paroles-d-homme
DTSTART;TZID=Europe/Paris:20150928T200000
DTEND;TZID=Europe/Paris:20150928T223000
CATEGORIES:06
LOCATION:Antibes bien Ãªtre et soin
WEBSITE:http://www.therapie-psycho-corporelle.com/pascal-vergnes/conta
 ct/cabinets-antibes-et-callian/
URL:http://www.therapie-psycho-corporelle.com/pascal-vergnes/contact/c
 abinets-antibes-et-callian/
CONTACT:06.14.62.69.69
ORGANIZER;CN=Pascal:https://epanews.fr/profile/VERGNESPascal
ATTACH;FMTTYPE="image/jpeg":http://storage.ning.com/topology/rest/1.0/
 file/get/1663454083?profile=original
ATTENDEE;ROLE=REQ-PARTICIPANT;PARTSTAT=ACCEPTED;RSVP=TRUE;CN=Pascal:ht
 tps://epanews.fr/profile/VERGNESPascal
END:VEVENT
END:VCALENDAR
