BEGIN:VCALENDAR
PRODID:NingEventWidget-v1
VERSION:2.0
METHOD:PUBLISH
BEGIN:VTIMEZONE
TZID:Europe/Paris
X-LIC-LOCATION:Europe/Paris
BEGIN:DAYLIGHT
TZOFFSETFROM:+0100
TZOFFSETTO:+0200
TZNAME:CEST
DTSTART:19700329T020000
RRULE:FREQ=YEARLY;BYMONTH=3;BYDAY=-1SU
END:DAYLIGHT
BEGIN:STANDARD
TZOFFSETFROM:+0200
TZOFFSETTO:+0100
TZNAME:CET
DTSTART:19701025T030000
RRULE:FREQ=YEARLY;BYMONTH=10;BYDAY=-1SU
END:STANDARD
END:VTIMEZONE
BEGIN:VEVENT
UID:2485226:Event:2870352
DTSTAMP:20260421T171153Z
SUMMARY:Groupe de parole pour femmes
DESCRIPTION:Il s'agit d'un groupe de paroles où l'on peut s'exprimer 
 librement sur tous les thèmes qui nous préoccupent ainsi que toutes 
 émotions associées, pour se libérer. Ce groupe de paroles est uniqu
 ement pour les femmes.\n\nPour plus d'information, aller sur https://e
 panews.fr/events/groupe-de-parole-pour-femmes
DTSTART;TZID=Europe/Paris:20170906T143000
DTEND;TZID=Europe/Paris:20170906T153000
CATEGORIES:30
LOCATION:Villeneuve Les Avignon
WEBSITE:
URL:
CONTACT:0618080232
ORGANIZER;CN="Cécile Coin":https://epanews.fr/profile/CecileCoin
ATTACH;FMTTYPE="image/jpeg":
ATTENDEE;ROLE=REQ-PARTICIPANT;PARTSTAT=ACCEPTED;RSVP=TRUE;CN="Cécile 
 Coin":https://epanews.fr/profile/CecileCoin
END:VEVENT
END:VCALENDAR
