BEGIN:VCALENDAR
PRODID:NingEventWidget-v1
VERSION:2.0
METHOD:PUBLISH
BEGIN:VTIMEZONE
TZID:Europe/Paris
X-LIC-LOCATION:Europe/Paris
BEGIN:DAYLIGHT
TZOFFSETFROM:+0100
TZOFFSETTO:+0200
TZNAME:CEST
DTSTART:19700329T020000
RRULE:FREQ=YEARLY;BYMONTH=3;BYDAY=-1SU
END:DAYLIGHT
BEGIN:STANDARD
TZOFFSETFROM:+0200
TZOFFSETTO:+0100
TZNAME:CET
DTSTART:19701025T030000
RRULE:FREQ=YEARLY;BYMONTH=10;BYDAY=-1SU
END:STANDARD
END:VTIMEZONE
BEGIN:VEVENT
UID:2485226:Event:1978592
DTSTAMP:20260421T061843Z
SUMMARY:Gratuit - Démonstration polymère (Fimo)
DESCRIPTION:Venez découvrir la texture polymère (autrement dit FIMO)
  lors de la démonstration gratuite (Entrée Libre) à la Galerie Cook
 ie (Murat sur Vèbre). Stéphanie Sins, polymèriste, vous livre les s
 ecrets de la pâte polymère, une vue sur les bases et techniques.\n\n
 Des ateliers créatifs sont mis en place, visitez le blog de la Galeri
 e Cookie pour plus d'information sur leurs dates. Lors de ces atelier
 s, vous repartez avec vos créations adaptées à divers supports (por
 te-clef, bijoux de sac, pendentif, boucles d'oreilles...)\nRenseigneme
 nts Lucie 0669538573 - dessins.ellem@orange.fr\n\n\n\nPour plus d'info
 rmation, aller sur https://epanews.fr/events/gratuit-d-monstration-pol
 ym-re-fimo
DTSTART;TZID=Europe/Paris:20140723T100000
DTEND;TZID=Europe/Paris:20140723T120000
CATEGORIES:81
LOCATION:Cookie Galerie Art Créations
WEBSITE:http://cookie-galerie.olympe.in
URL:http://cookie-galerie.olympe.in
CONTACT:0669538573
ORGANIZER;CN="Ellem Dessins":https://epanews.fr/profile/EllemDessins
ATTACH;FMTTYPE="image/jpeg":http://storage.ning.com/topology/rest/1.0/
 file/get/1663177003?profile=original
ATTENDEE;ROLE=REQ-PARTICIPANT;PARTSTAT=ACCEPTED;RSVP=TRUE;CN="Ellem De
 ssins":https://epanews.fr/profile/EllemDessins
END:VEVENT
END:VCALENDAR
