BEGIN:VCALENDAR
PRODID:NingEventWidget-v1
VERSION:2.0
METHOD:PUBLISH
BEGIN:VTIMEZONE
TZID:Europe/Paris
X-LIC-LOCATION:Europe/Paris
BEGIN:DAYLIGHT
TZOFFSETFROM:+0100
TZOFFSETTO:+0200
TZNAME:CEST
DTSTART:19700329T020000
RRULE:FREQ=YEARLY;BYMONTH=3;BYDAY=-1SU
END:DAYLIGHT
BEGIN:STANDARD
TZOFFSETFROM:+0200
TZOFFSETTO:+0100
TZNAME:CET
DTSTART:19701025T030000
RRULE:FREQ=YEARLY;BYMONTH=10;BYDAY=-1SU
END:STANDARD
END:VTIMEZONE
BEGIN:VEVENT
UID:2485226:Event:2818002
DTSTAMP:20260422T152313Z
SUMMARY:Grande chasse au trésor le dimanche 23 avril à 14h au jardin
 -forêt de Pontcirq !!!
DESCRIPTION:Tous à vos agendas !\nL'association Unis Vers Terre d
 e Pontcirq, en partenariat avec la ludothèque Le Bilboquet, organi
 se une grande chasse au trésor le dimanche 23 avril à 14h. 
 Et pour les gourmands...  le jeu sera suivi d'un goûter conté !\
 nL'histoire tient de l'énigme et de l’abracadabrantesque : mais où
  est-donc Mademoiselle Fleur de Fougère ? Aidez les habitants du vil
 lage Unis Vers Terre à la retrouver en relevant des défis tous p
 lus originaux et farfelus les uns que les autres ! Peut-être alors e
 lle vous mènera-t-elle jusqu’au trésor…\nVous êtes joueur ? Alo
 rs venez nombreux et en famille au jardin-forêt de Pontcirq parti
 ciper à cette grande aventure ! Les enfants qui n’ont pas encore s
 oufflé leurs cinq bougies seront accueillis à bras ouverts (et à bi
 sous gloutons), mais risqueront d’être un peu petits pour prendre p
 art à la chasse au trésor...\nLe jardin-forêt de Pontcirq, av
 ez-vous dit ? Oui, oui… L'itinéraire sera fléché depuis le bour
 g de Pontcirq !\nEt la question qui d’ordinaire fâche ou du moins r
 estreint : combien que ça va me coûter encore que cet après-midi-l
 à ? Eh bien, c’est à vous d’en décider en votre âme et consc
 ience : le prix est libre et conscient…\nAlors vous que je co
 nnais bien, peu ou pas encore : on se voit dimanche 23 avril à 
 14h ?!? Ou, si vous désirez plus de renseignements, on s’appelle a
 u 07.81.75.25.13 ?\nEn attendant, je vous embrasse fort comme mon en
 vie de jouer !\nLa gardienne de la porte du jardin-forêt de Pontc
 irq\nPS : Merci de faire tourner tourner tourner tourner l'info car p
 lus on est de zinzins plus on se marre !!!\n\n\n\n\n\n\nPour plus d'i
 nformation, aller sur https://epanews.fr/events/grande-chasse-au-tr-so
 r-le-dimanche-23-avril-14h-au-jardin-for-t
DTSTART;TZID=Europe/Paris:20170423T140000
DTEND;TZID=Europe/Paris:20170423T180000
CATEGORIES:46
LOCATION:Jardin-forêt de Pontcirq (46)
WEBSITE:https://unisversterre.wordpress.com/
URL:https://unisversterre.wordpress.com/
CONTACT:0781752513
ORGANIZER;CN="Asso Unisversterre":https://epanews.fr/profile/AssoUnisv
 ersterre
ATTACH;FMTTYPE="image/jpeg":http://storage.ning.com/topology/rest/1.0/
 file/get/1663659303?profile=original
ATTENDEE;ROLE=REQ-PARTICIPANT;PARTSTAT=ACCEPTED;RSVP=TRUE;CN="Asso Uni
 sversterre":https://epanews.fr/profile/AssoUnisversterre
END:VEVENT
END:VCALENDAR
