BEGIN:VCALENDAR
PRODID:NingEventWidget-v1
VERSION:2.0
METHOD:PUBLISH
BEGIN:VTIMEZONE
TZID:Europe/Paris
X-LIC-LOCATION:Europe/Paris
BEGIN:DAYLIGHT
TZOFFSETFROM:+0100
TZOFFSETTO:+0200
TZNAME:CEST
DTSTART:19700329T020000
RRULE:FREQ=YEARLY;BYMONTH=3;BYDAY=-1SU
END:DAYLIGHT
BEGIN:STANDARD
TZOFFSETFROM:+0200
TZOFFSETTO:+0100
TZNAME:CET
DTSTART:19701025T030000
RRULE:FREQ=YEARLY;BYMONTH=10;BYDAY=-1SU
END:STANDARD
END:VTIMEZONE
BEGIN:VEVENT
UID:2485226:Event:163082
DTSTAMP:20260422T104318Z
SUMMARY:Grand vide Grenier / Thé gourmant
DESCRIPTION:Grand vide Grenier chez Marilou\n\nAutour d'un thé gourma
 nd\n\n\nLES 3-4 et 5 Dec 2010\n\nde 14 h à 19 h\n\n181,rue pierre Doi
 ze, Résidence le lycée Bat H\n\n13010 Marseille Tel 06 77 80 80 09\n
 \nmariloucervantes@live.fr\n\nVéritable caverne d'Ali Baba\n\nVêteme
 nts femmes, petits mobiliers,\naccessoires modes, livres, Dvd,\nprodui
 ts beauté\ncadeaux, trésors.....\n\nUne idée originale pour toi et 
 tes amis.\n\nViens passer un bon moment et faire de très très bonnes
  affaires!!!\n\n\n+ TOMBOLA GRATUITE POUR TOUT VISITEUR!\n\n\nMerci de
  faire suivre l'info.\n\n\n\n\nPour plus d'information, aller sur http
 s://epanews.fr/events/grand-vide-grenier-the
DTSTART;TZID=Europe/Paris:20101203T140000
DTEND;TZID=Europe/Paris:20101205T140000
CATEGORIES:13
LOCATION:Marseille
WEBSITE:
URL:
CONTACT:06 77 80 80 09
ORGANIZER;CN="Marilou coach d 'éveil énergie":https://epanews.fr/pro
 file/Marilou
ATTACH;FMTTYPE="image/jpeg":http://storage.ning.com/topology/rest/1.0/
 file/get/1662362372?profile=original
ATTENDEE;ROLE=REQ-PARTICIPANT;PARTSTAT=ACCEPTED;RSVP=TRUE;CN="Marilou 
 coach d 'éveil énergie":https://epanews.fr/profile/Marilou
END:VEVENT
END:VCALENDAR
