BEGIN:VCALENDAR
PRODID:NingEventWidget-v1
VERSION:2.0
METHOD:PUBLISH
BEGIN:VTIMEZONE
TZID:Europe/Paris
X-LIC-LOCATION:Europe/Paris
BEGIN:DAYLIGHT
TZOFFSETFROM:+0100
TZOFFSETTO:+0200
TZNAME:CEST
DTSTART:19700329T020000
RRULE:FREQ=YEARLY;BYMONTH=3;BYDAY=-1SU
END:DAYLIGHT
BEGIN:STANDARD
TZOFFSETFROM:+0200
TZOFFSETTO:+0100
TZNAME:CET
DTSTART:19701025T030000
RRULE:FREQ=YEARLY;BYMONTH=10;BYDAY=-1SU
END:STANDARD
END:VTIMEZONE
BEGIN:VEVENT
UID:2485226:Event:2666036
DTSTAMP:20260421T212943Z
SUMMARY:Modification demandée
DESCRIPTION:La pratique du Yoga stimule l’écoute bienveillante de s
 oi, équilibre notre respiration et permet le lâcher prise. Corps et 
 esprit sont ainsi idéalement préparés à l’activité artistique.\
 n\nLes Mandalas sont créés à la peinture, en laissant jaillir libre
 ment les formes et les couleurs de notre monde intérieur.\nIls sont r
 éalisés en individuel et en collectif (land art).\n\nNous apprendron
 s à vivre l’inspiration comme une caresse qui nourrit et détend, e
 t à laisser jaillir sur l’expiration une\ntrace unique offerte au m
 onde .\n\nAu coeur de l’été et des montagnes Ariégeoises,\nDidier
  et Claire vous proposent un voyage au coeur de vous-même !\n\nLieu :
  les Vergers de Sésame - Caoué de Coume - 09290 Le Mas d’Azil\n\nT
 arif enseignement : 400€ - 350€ si vous venez à 2\n\nPour l’hé
 bergement vous pouvez réserver directement au \"Verger de Sésame\" (
 6€/nuit sous tente/15€en dortoir) : 05.61.69.99.56\n\nPour plus d'
 information, aller sur https://epanews.fr/events/grand-stage-yoga-mand
 ala
DTSTART;TZID=Europe/Paris:20160726T100000
DTEND;TZID=Europe/Paris:20160730T170000
CATEGORIES:09, 31, 32, 81, 82, 66
LOCATION:Les Vergers de Sésame
WEBSITE:http://www.claire-suire.com/Stages-d-exception.html
URL:http://www.claire-suire.com/Stages-d-exception.html
CONTACT:06 85 03 57 92
ORGANIZER;CN="Suire claire":https://epanews.fr/profile/Suireclaire
ATTACH;FMTTYPE="image/jpeg":http://storage.ning.com/topology/rest/1.0/
 file/get/1663580483?profile=original
ATTENDEE;ROLE=REQ-PARTICIPANT;PARTSTAT=ACCEPTED;RSVP=TRUE;CN="Suire cl
 aire":https://epanews.fr/profile/Suireclaire
END:VEVENT
END:VCALENDAR
