BEGIN:VCALENDAR
PRODID:NingEventWidget-v1
VERSION:2.0
METHOD:PUBLISH
BEGIN:VTIMEZONE
TZID:Europe/Paris
X-LIC-LOCATION:Europe/Paris
BEGIN:DAYLIGHT
TZOFFSETFROM:+0100
TZOFFSETTO:+0200
TZNAME:CEST
DTSTART:19700329T020000
RRULE:FREQ=YEARLY;BYMONTH=3;BYDAY=-1SU
END:DAYLIGHT
BEGIN:STANDARD
TZOFFSETFROM:+0200
TZOFFSETTO:+0100
TZNAME:CET
DTSTART:19701025T030000
RRULE:FREQ=YEARLY;BYMONTH=10;BYDAY=-1SU
END:STANDARD
END:VTIMEZONE
BEGIN:VEVENT
UID:2485226:Event:2608312
DTSTAMP:20260423T165558Z
SUMMARY:Grand stage d'Ã©tÃ© \"Couleurs, harmonie\" danser, chanter, pe
 indre...Illuminer nos vies !
DESCRIPTION:du 1er au 6 aout 2016 - Â  Stage de Biodanza animÃ© par VÃ
 ©ro Granier & Eric Chevalier\nSâ€™offrir un temps dâ€™ouverture et de 
 convivialitÃ©, dÃ©couvrir lâ€™Ã©tendue de la palette de nos talents et
  de nos plaisirs, Ã  travers le mouvement corporel, vocal, pictural.\n
 Residentiel Tous renseignements, Â photos, descriptif du contenu .... 
 Â http://www.biodanza-art.fr/stage-biodanza/\n\nPour plus d'informatio
 n, aller sur https://epanews.fr/events/grand-stage-d-t-couleurs-harmon
 ie-danser-chanter-peindre-cr-er-sa
DTSTART;TZID=Europe/Paris:20160801T123000
DTEND;TZID=Europe/Paris:20160806T170000
CATEGORIES:33, 24, 16, 17, 40, 27, 64
LOCATION:Juillac 33 (gare sncf Castillon 33) entre Bordeaux,Libourne e
 t Bergerac
WEBSITE:https://www.google.fr/maps/place/La+Roque,+33890+Juillac/@44.8
 133681,0.0459764,14z/data=!3m1!4b1!4m2!3m1!1s0x12aaa66283638df5:0x3a83
 f176d4611b23?hl=fr
URL:https://www.google.fr/maps/place/La+Roque,+33890+Juillac/@44.81336
 81,0.0459764,14z/data=!3m1!4b1!4m2!3m1!1s0x12aaa66283638df5:0x3a83f176
 d4611b23?hl=fr
CONTACT:06 87 55 10 13
ORGANIZER:Association Biodanz'art
ATTACH;FMTTYPE="image/jpeg":http://storage.ning.com/topology/rest/1.0/
 file/get/1663544054?profile=original
ATTENDEE;ROLE=REQ-PARTICIPANT;PARTSTAT=ACCEPTED;RSVP=TRUE;CN=VÃ©ro:htt
 ps://epanews.fr/profile/Vero472
END:VEVENT
END:VCALENDAR
