BEGIN:VCALENDAR
PRODID:NingEventWidget-v1
VERSION:2.0
METHOD:PUBLISH
BEGIN:VTIMEZONE
TZID:Europe/Paris
X-LIC-LOCATION:Europe/Paris
BEGIN:DAYLIGHT
TZOFFSETFROM:+0100
TZOFFSETTO:+0200
TZNAME:CEST
DTSTART:19700329T020000
RRULE:FREQ=YEARLY;BYMONTH=3;BYDAY=-1SU
END:DAYLIGHT
BEGIN:STANDARD
TZOFFSETFROM:+0200
TZOFFSETTO:+0100
TZNAME:CET
DTSTART:19701025T030000
RRULE:FREQ=YEARLY;BYMONTH=10;BYDAY=-1SU
END:STANDARD
END:VTIMEZONE
BEGIN:VEVENT
UID:2485226:Event:1177362
DTSTAMP:20260422T035020Z
SUMMARY:Grand Marché du Printemps
DESCRIPTION:Grand Marché du Printemps \n Tout le long de la Promenad
 e des Plages du Mourillon  Du mercredi 8 au dimanche 12 mai 2013  De
  13h à 19h  Plus de 50 exposants sont attendus  Artisans créateurs,
  Artisans du bien-être, Produits naturels ou bio,   Commerce équit
 able et bien d'autres exposants à découvrir...\nParking gratuit Entr
 ée gratuite\n\nPour plus d'information, aller sur https://epanews.fr/
 events/grand-march-du-printemps
DTSTART;TZID=Europe/Paris:20130508T130000
DTEND;TZID=Europe/Paris:20130512T190000
CATEGORIES:83000
LOCATION:Toulon
WEBSITE:http://www.facebook.com/alliance.art.et.bienetre
URL:http://www.facebook.com/alliance.art.et.bienetre
CONTACT:06 59 26 21 95
ORGANIZER;CN="Alliance Art' & Bien-être":https://epanews.fr/profile/A
 llianceArtBienetre
ATTACH;FMTTYPE="image/jpeg":http://storage.ning.com/topology/rest/1.0/
 file/get/1662759483?profile=original
ATTENDEE;ROLE=REQ-PARTICIPANT;PARTSTAT=ACCEPTED;RSVP=TRUE;CN=Drine:htt
 ps://epanews.fr/profile/Drine987
ATTENDEE;ROLE=REQ-PARTICIPANT;PARTSTAT=ACCEPTED;RSVP=TRUE;CN="Alliance
  Art' & Bien-être":https://epanews.fr/profile/AllianceArtBienetre
END:VEVENT
END:VCALENDAR
