BEGIN:VCALENDAR
PRODID:NingEventWidget-v1
VERSION:2.0
METHOD:PUBLISH
BEGIN:VTIMEZONE
TZID:Europe/Paris
X-LIC-LOCATION:Europe/Paris
BEGIN:DAYLIGHT
TZOFFSETFROM:+0100
TZOFFSETTO:+0200
TZNAME:CEST
DTSTART:19700329T020000
RRULE:FREQ=YEARLY;BYMONTH=3;BYDAY=-1SU
END:DAYLIGHT
BEGIN:STANDARD
TZOFFSETFROM:+0200
TZOFFSETTO:+0100
TZNAME:CET
DTSTART:19701025T030000
RRULE:FREQ=YEARLY;BYMONTH=10;BYDAY=-1SU
END:STANDARD
END:VTIMEZONE
BEGIN:VEVENT
UID:2485226:Event:1944358
DTSTAMP:20260421T064407Z
SUMMARY:Grand concert en plein air à la Sainte Baume sur la vie de Ma
 rie Madeleine
DESCRIPTION:Concert exceptionnel en plein air, avec orchestre et 100 c
 horistes\nOratorio en 7 tableaux de Michel Garnier sur la vie de Marie
  Madeleine\nSamedi 19 juillet 2014 à 21h30\nPrix : 20 euros\nRésevat
 ion conseillée au 06 69 02 59 00 ou sur le site de la fnac\n\n\nPour
  plus d'information, aller sur https://epanews.fr/events/grand-concert
 -en-plein-air-la-sainte-baume-sur-la-vie-de-marie
DTSTART;TZID=Europe/Paris:20140719T213000
DTEND;TZID=Europe/Paris:20140719T230000
CATEGORIES:13
LOCATION:La sainte Baume (champ des dominicains)
WEBSITE:http://www.mariedemagdala.net
URL:http://www.mariedemagdala.net
CONTACT:06 69 02 59 00
ORGANIZER:Association Magdala
ATTACH;FMTTYPE="image/jpeg":http://storage.ning.com/topology/rest/1.0/
 file/get/1663153349?profile=original
ATTENDEE;ROLE=REQ-PARTICIPANT;PARTSTAT=ACCEPTED;RSVP=TRUE;CN="Fred nat
 uro":https://epanews.fr/profile/Frednaturo
ATTENDEE;ROLE=REQ-PARTICIPANT;PARTSTAT=ACCEPTED;RSVP=TRUE;CN=fafa:http
 s://epanews.fr/profile/fafa
ATTENDEE;ROLE=REQ-PARTICIPANT;PARTSTAT=ACCEPTED;RSVP=TRUE;CN="Patrick 
 Dhersin":https://epanews.fr/profile/PatrickDhersin
ATTENDEE;ROLE=REQ-PARTICIPANT;PARTSTAT=TENTATIVE;RSVP=TRUE;CN=Sandrine
 :https://epanews.fr/profile/Sandy57
END:VEVENT
END:VCALENDAR
