BEGIN:VCALENDAR
PRODID:NingEventWidget-v1
VERSION:2.0
METHOD:PUBLISH
BEGIN:VTIMEZONE
TZID:Europe/Paris
X-LIC-LOCATION:Europe/Paris
BEGIN:DAYLIGHT
TZOFFSETFROM:+0100
TZOFFSETTO:+0200
TZNAME:CEST
DTSTART:19700329T020000
RRULE:FREQ=YEARLY;BYMONTH=3;BYDAY=-1SU
END:DAYLIGHT
BEGIN:STANDARD
TZOFFSETFROM:+0200
TZOFFSETTO:+0100
TZNAME:CET
DTSTART:19701025T030000
RRULE:FREQ=YEARLY;BYMONTH=10;BYDAY=-1SU
END:STANDARD
END:VTIMEZONE
BEGIN:VEVENT
UID:2485226:Event:1243336
DTSTAMP:20260422T203826Z
SUMMARY:Gordes, 28 avril 2013 Satsang* évolutionnaire avec Andrew Coh
 en et hommage à Yvan Amar.
DESCRIPTION:Evènement exceptionnel avec Andrew Cohen à Gordes, le di
 manche 28 avril 2013\nAndrew Cohen était l'inspirateur du 1er forum i
 nternational de l'évolution de la conscience, à Paris en octobre 201
 2.  \nLe matin, il fera un hommage à son ami Yvan Amar (enseignant s
 pirituel et créateur des éditions du Relié, qui a introduit Andrew 
 en France), disparu trop tôt.\nL'après midi sera consacré à un Sa
 tsang évolutionnaire => Satsang (sanskrit Sat = vérité, réalité 
 et être. Saṅgha = assemblée), signifie « être en compagnie de l
 a vérité », et par extension « compagnie des sages » ou « co
 mpagnie de la vérité qui est en soi ». Le terme désigne une renco
 ntre avec un sage dont l’enseignement est fondé sur les principes d
 e la non-dualité.\nCette non-dualité est dite « évolutionnaire 
 » lorsqu’elle intègre le Sutra du Coeur – « La forme est vide
  et le vide est forme » – dans un contexte d’évolution de la 
 forme. Lors d’un satsang il peut y avoir des discussions, des mome
 nts de silence ou de méditation.\nAndrew Cohen, n'est pas venu dans l
 a région depuis des années, ne manquez pas cette occasion.\nPlus de 
 renseignements ici : \nhttp://www.enlightennext.fr/experimenter-compr
 endre/conferences-dandrew-cohen/\n\nPour plus d'information, aller sur
  https://epanews.fr/events/gordes-28-avril-2013-satsang-volutionnaire-
 avec-andrew-cohen-et
DTSTART;TZID=Europe/Paris:20130428T100000
DTEND;TZID=Europe/Paris:20130428T180000
CATEGORIES:84
LOCATION:Espace Simiane, Mairie, 84220 Gordes
WEBSITE:http://www.enlightennext.fr/experimenter-comprendre/conference
 s-dandrew-cohen/
URL:http://www.enlightennext.fr/experimenter-comprendre/conferences-da
 ndrew-cohen/
CONTACT:09 52 03 65 64 ou 04 13 20 79 77
ORGANIZER:EnlightenNext France
ATTACH;FMTTYPE="image/jpeg":http://storage.ning.com/topology/rest/1.0/
 file/get/1662790606?profile=original
ATTENDEE;ROLE=REQ-PARTICIPANT;PARTSTAT=ACCEPTED;RSVP=TRUE;CN="Jacqueli
 ne Gerente":https://epanews.fr/profile/JacquelineGerente
END:VEVENT
END:VCALENDAR
