BEGIN:VCALENDAR
PRODID:NingEventWidget-v1
VERSION:2.0
METHOD:PUBLISH
BEGIN:VTIMEZONE
TZID:Europe/Paris
X-LIC-LOCATION:Europe/Paris
BEGIN:DAYLIGHT
TZOFFSETFROM:+0100
TZOFFSETTO:+0200
TZNAME:CEST
DTSTART:19700329T020000
RRULE:FREQ=YEARLY;BYMONTH=3;BYDAY=-1SU
END:DAYLIGHT
BEGIN:STANDARD
TZOFFSETFROM:+0200
TZOFFSETTO:+0100
TZNAME:CET
DTSTART:19701025T030000
RRULE:FREQ=YEARLY;BYMONTH=10;BYDAY=-1SU
END:STANDARD
END:VTIMEZONE
BEGIN:VEVENT
UID:2485226:Event:1341710
DTSTAMP:20260422T184202Z
SUMMARY:Gnose, un enseignement sans maÃ®tre
DESCRIPTION:ConfÃ©rence\nEn 2013, lâ€™Ã©poque des maÃ®tres spirituels 
 est rÃ©volue ; Gurdjieff, Sri Aurobindo, Krishnamurti nâ€™ont pas de s
 uccesseurs. Notre conscience occidentale prÃ©tend sâ€™affranchir de to
 ute autoritÃ© mais que faisons-nous de cette soi-disant libertÃ© ?Â Pu
 isant dans les traditions de tous les temps, la gnose propose une visi
 on qui rÃ©volutionne la poursuite dâ€™un chemin de transformation. Ens
 eignement intÃ©rieur et pratique de vie peuvent Ãªtre associÃ©s par un
 e mÃ©thode, un processus qui unit corps, Ã¢me et esprit.Â Lâ€™Ecole de
  la Rose-Croix dâ€™Or, hÃ©ritiÃ¨re des initiations cathares et de lâ€™
 alchimie des Rose-Croix classiques, invite Ã  dÃ©couvrir cet Â« enseig
 nement sans maÃ®tre Â» qui, par la connaissance et la pratique dâ€™un 
 nouveau comportement, conduit Ã  la renaissance de lâ€™homme nouveau.Â
  \nEntrÃ©e libre et gratuite\n\nPour plus d'information, aller sur htt
 ps://epanews.fr/events/gnose-un-enseignement-sans-ma-tre
DTSTART;TZID=Europe/Paris:20130514T203000
DTEND;TZID=Europe/Paris:20130514T220000
CATEGORIES:31
LOCATION:L'Autre salon de ThÃ©
WEBSITE:http://toulouse.rose-croix-d-or.org
URL:http://toulouse.rose-croix-d-or.org
CONTACT:06 88 76 10 98
ORGANIZER:Ecole Gnostique de la Rose-croix d'Or
ATTACH;FMTTYPE="image/jpeg":http://storage.ning.com/topology/rest/1.0/
 file/get/1662825149?profile=original
ATTENDEE;ROLE=REQ-PARTICIPANT;PARTSTAT=ACCEPTED;RSVP=TRUE;CN="Christia
 n Malgras":https://epanews.fr/profile/ChristianMalgras
END:VEVENT
END:VCALENDAR
