BEGIN:VCALENDAR
PRODID:NingEventWidget-v1
VERSION:2.0
METHOD:PUBLISH
BEGIN:VTIMEZONE
TZID:Europe/Paris
X-LIC-LOCATION:Europe/Paris
BEGIN:DAYLIGHT
TZOFFSETFROM:+0100
TZOFFSETTO:+0200
TZNAME:CEST
DTSTART:19700329T020000
RRULE:FREQ=YEARLY;BYMONTH=3;BYDAY=-1SU
END:DAYLIGHT
BEGIN:STANDARD
TZOFFSETFROM:+0200
TZOFFSETTO:+0100
TZNAME:CET
DTSTART:19701025T030000
RRULE:FREQ=YEARLY;BYMONTH=10;BYDAY=-1SU
END:STANDARD
END:VTIMEZONE
BEGIN:VEVENT
UID:2485226:Event:1341715
DTSTAMP:20260423T031147Z
SUMMARY:Gnose, un enseignement sans maître
DESCRIPTION:En 2013, l’époque des maîtres spirituels est révolue 
 ; Gurdjieff, Sri Aurobindo, Krishnamurti n’ont pas de successeurs. N
 otre conscience occidentale prétend s’affranchir de toute autorité
  mais que faisons-nous de cette soi-disant liberté ? Puisant dans le
 s traditions de tous les temps, la gnose propose une vision qui révol
 utionne la poursuite d’un chemin de transformation. Enseignement int
 érieur et pratique de vie peuvent être associés par une méthode, u
 n processus qui unit corps, âme et esprit. L’Ecole de la Rose-Croi
 x d’Or, héritière des initiations cathares et de l’alchimie des 
 Rose-Croix classiques, invite à découvrir cet « enseignement sans m
 aître » qui, par la connaissance et la pratique d’un nouveau compo
 rtement, conduit à la renaissance de l’homme nouveau. \nEntrée li
 bre et gratuite\n\nPour plus d'information, aller sur https://epanews.
 fr/events/gnose-un-enseignement-sans-ma-tre-1
DTSTART;TZID=Europe/Paris:20130515T203000
DTEND;TZID=Europe/Paris:20130515T220000
CATEGORIES:64
LOCATION:Hôtel Continental
WEBSITE:http://toulouse.rose-croix-d-or.org/
URL:http://toulouse.rose-croix-d-or.org/
CONTACT:06 88 76 10 98
ORGANIZER:Ecole Gnostique de la Rose-croix d'Or
ATTACH;FMTTYPE="image/jpeg":http://storage.ning.com/topology/rest/1.0/
 file/get/1662825265?profile=original
ATTENDEE;ROLE=REQ-PARTICIPANT;PARTSTAT=ACCEPTED;RSVP=TRUE;CN=yaya:http
 s://epanews.fr/profile/yaya
ATTENDEE;ROLE=REQ-PARTICIPANT;PARTSTAT=ACCEPTED;RSVP=TRUE;CN="Christia
 n Malgras":https://epanews.fr/profile/ChristianMalgras
END:VEVENT
END:VCALENDAR
