BEGIN:VCALENDAR
PRODID:NingEventWidget-v1
VERSION:2.0
METHOD:PUBLISH
BEGIN:VTIMEZONE
TZID:Europe/Paris
X-LIC-LOCATION:Europe/Paris
BEGIN:DAYLIGHT
TZOFFSETFROM:+0100
TZOFFSETTO:+0200
TZNAME:CEST
DTSTART:19700329T020000
RRULE:FREQ=YEARLY;BYMONTH=3;BYDAY=-1SU
END:DAYLIGHT
BEGIN:STANDARD
TZOFFSETFROM:+0200
TZOFFSETTO:+0100
TZNAME:CET
DTSTART:19701025T030000
RRULE:FREQ=YEARLY;BYMONTH=10;BYDAY=-1SU
END:STANDARD
END:VTIMEZONE
BEGIN:VEVENT
UID:2485226:Event:2613110
DTSTAMP:20260422T064956Z
SUMMARY:Gilles Delieuze - Le Pas-Sage
DESCRIPTION:Vivre sa mission de Passeur, d’âme, de paix, de vie, de
  lumière, d’ombre aussi…\nRenouer avec cette nature, en apprivois
 er les codes et trouver ses propres rituels.\nFace aux petites morts d
 e notre Vie, comme les plus ultimes, devenir en conscience un pont de
  Lumière entre les mondes…\nPlusieurs transmissions vous seront off
 ertes par les guides, vos attributs vous seront révélés, pour vous 
 permettre de mener à bien votre don à la Vie, dans la protection la 
 plus totale.\nNous aborderons aussi combien souvent les personnes qui 
 se sentent parasitées sont des passeurs qui s’ignorent et vous r
 ecevrez vos propres modes de résolution à cela.\nAu-delà des clés 
 transmises, je vous guiderai vers la découverte de votre fonctionnem
 ent naturel dans votre vie de passeur plutôt que de vous dicter des 
 protocoles.\n\nPour plus d'information, aller sur https://epanews.fr/e
 vents/gilles-delieuze-le-pas-sage
DTSTART;TZID=Europe/Paris:20161023T093000
DTEND;TZID=Europe/Paris:20161023T183000
CATEGORIES:11
LOCATION:Espace 111
WEBSITE:http://gillesdelieuze.com/event/le-pas-sage-231016
URL:http://gillesdelieuze.com/event/le-pas-sage-231016
CONTACT:
ORGANIZER;CN="Gilles DELIEUZE":https://epanews.fr/profile/GillesDELIEU
 ZE
ATTACH;FMTTYPE="image/jpeg":http://storage.ning.com/topology/rest/1.0/
 file/get/1663546162?profile=original
ATTENDEE;ROLE=REQ-PARTICIPANT;PARTSTAT=ACCEPTED;RSVP=TRUE;CN="Gilles D
 ELIEUZE":https://epanews.fr/profile/GillesDELIEUZE
END:VEVENT
END:VCALENDAR
