BEGIN:VCALENDAR
PRODID:NingEventWidget-v1
VERSION:2.0
METHOD:PUBLISH
BEGIN:VTIMEZONE
TZID:Europe/Paris
X-LIC-LOCATION:Europe/Paris
BEGIN:DAYLIGHT
TZOFFSETFROM:+0100
TZOFFSETTO:+0200
TZNAME:CEST
DTSTART:19700329T020000
RRULE:FREQ=YEARLY;BYMONTH=3;BYDAY=-1SU
END:DAYLIGHT
BEGIN:STANDARD
TZOFFSETFROM:+0200
TZOFFSETTO:+0100
TZNAME:CET
DTSTART:19701025T030000
RRULE:FREQ=YEARLY;BYMONTH=10;BYDAY=-1SU
END:STANDARD
END:VTIMEZONE
BEGIN:VEVENT
UID:2485226:Event:2610970
DTSTAMP:20260422T062742Z
SUMMARY:Gilles Delieuze - Communion en conscience
DESCRIPTION:THEME \"CONTRATS D'AME, ORCHESTRATION DIVINE ET INCARNATIO
 N : COMMENT FAIRE LA PAIX AVEC LES EXPERIENCES DE NOTRE EXISTENCE ET G
 OUTER AUX TRESORS DANS LA JOIE DE L'ETRE ?\"\n \nSi vous avez des que
 stions, merci de consulter d'abord la FAQ\nOù se trouve le lieu pou
 r la rencontre ? cliquer ICI\nJe vous propose un tout nouveau rdv, au
  delà du cadre d’une formation, d’une transmission d’un savoir
 , simplement dans un espace de communion des coeurs.Nous vibrerons ens
 emble sans programme ni passage obligé. Nous méditerons, nous auron
 s des échanges autour du thème proposé et nous ferons l’expérien
 ce d’accueillir la Présence Une, dans le silence du Coeur, qui app
 ortera au-delà d’une réponse formelle, une résolution pour chacun
 .\n\n Des exercices inédits seront délivrés pour cheminer vers ce
  but\n \nDans la Joie et de tout Coeur.\n\n\nPour plus d'information,
  aller sur https://epanews.fr/events/gilles-delieuze-communion-en-cons
 cience-1
DTSTART;TZID=Europe/Paris:20160327T160000
DTEND;TZID=Europe/Paris:20160327T190000
CATEGORIES:11
LOCATION:Espace 111
WEBSITE:http://gillesdelieuze.com/event/communion-en-conscience-221016
 /
URL:http://gillesdelieuze.com/event/communion-en-conscience-221016/
CONTACT:
ORGANIZER;CN="Gilles DELIEUZE":https://epanews.fr/profile/GillesDELIEU
 ZE
ATTACH;FMTTYPE="image/jpeg":http://storage.ning.com/topology/rest/1.0/
 file/get/1663547426?profile=original
ATTENDEE;ROLE=REQ-PARTICIPANT;PARTSTAT=ACCEPTED;RSVP=TRUE;CN="Gilles D
 ELIEUZE":https://epanews.fr/profile/GillesDELIEUZE
END:VEVENT
END:VCALENDAR
