BEGIN:VCALENDAR
PRODID:NingEventWidget-v1
VERSION:2.0
METHOD:PUBLISH
BEGIN:VTIMEZONE
TZID:Europe/Paris
X-LIC-LOCATION:Europe/Paris
BEGIN:DAYLIGHT
TZOFFSETFROM:+0100
TZOFFSETTO:+0200
TZNAME:CEST
DTSTART:19700329T020000
RRULE:FREQ=YEARLY;BYMONTH=3;BYDAY=-1SU
END:DAYLIGHT
BEGIN:STANDARD
TZOFFSETFROM:+0200
TZOFFSETTO:+0100
TZNAME:CET
DTSTART:19701025T030000
RRULE:FREQ=YEARLY;BYMONTH=10;BYDAY=-1SU
END:STANDARD
END:VTIMEZONE
BEGIN:VEVENT
UID:2485226:Event:2610891
DTSTAMP:20260423T043748Z
SUMMARY:Gilles Delieuze - Atelier Grand Changement - En Ligne
DESCRIPTION:\n\nPour plus d'information, aller sur https://epanews.fr/
 events/gilles-delieuze-atelier-grand-changement-en-ligne-1
DTSTART;TZID=Europe/Paris:20160428T200000
DTEND;TZID=Europe/Paris:20160428T220000
CATEGORIES:11
LOCATION:En ligne par Internet
WEBSITE:http://gillesdelieuze.com/event/atelier-grand-changement-redem
 arrage-systeme/
URL:http://gillesdelieuze.com/event/atelier-grand-changement-redemarra
 ge-systeme/
CONTACT:
ORGANIZER;CN="Gilles DELIEUZE":https://epanews.fr/profile/GillesDELIEU
 ZE
ATTACH;FMTTYPE="image/jpeg":http://storage.ning.com/topology/rest/1.0/
 file/get/1663546549?profile=original
ATTENDEE;ROLE=REQ-PARTICIPANT;PARTSTAT=ACCEPTED;RSVP=TRUE;CN="Gilles D
 ELIEUZE":https://epanews.fr/profile/GillesDELIEUZE
END:VEVENT
END:VCALENDAR
