BEGIN:VCALENDAR
PRODID:NingEventWidget-v1
VERSION:2.0
METHOD:PUBLISH
BEGIN:VTIMEZONE
TZID:Europe/Paris
X-LIC-LOCATION:Europe/Paris
BEGIN:DAYLIGHT
TZOFFSETFROM:+0100
TZOFFSETTO:+0200
TZNAME:CEST
DTSTART:19700329T020000
RRULE:FREQ=YEARLY;BYMONTH=3;BYDAY=-1SU
END:DAYLIGHT
BEGIN:STANDARD
TZOFFSETFROM:+0200
TZOFFSETTO:+0100
TZNAME:CET
DTSTART:19701025T030000
RRULE:FREQ=YEARLY;BYMONTH=10;BYDAY=-1SU
END:STANDARD
END:VTIMEZONE
BEGIN:VEVENT
UID:2485226:Event:2579520
DTSTAMP:20260421T105141Z
SUMMARY:gerer, developper, rĂ©guler ses perceptions spirituelles confĂ
 ©rence
DESCRIPTION:ConfĂ©renceComment dĂ©velopper ses perceptions spirituelle
 s : clairvoyance, visions thĂ©rapeutiques, magnĂ©tisme, cartomancieâ€¦
 \net rĂ©guler si vous ĂŞtes trop rĂ©ceptif â€“ medium Si nous avons to
 us des dons potentiels plus ou moins actif, Christophe qui guide et fo
 rme des gens depuis 25 ans vous en expliquera les mĂ©canismes et les c
 lĂ©s de ce dĂ©veloppementLe vendredi 19 â€“ fĂ©vrier 2016 - 19h30 Sall
 e irisÂ  paf : 10 â‚¬\n\nAnimĂ©e par Christophe Dacier. (RĂ©servation 
 nĂ©cessaire)Au Forum 104, 104 rue de Vaugirard, 75006 Paris\n\nPour pl
 us d'information, aller sur https://epanews.fr/events/gerer-developper
 -r-guler-ses-perceptions-spirituelles-conf-rence
DTSTART;TZID=Europe/Paris:20160219T193000
DTEND;TZID=Europe/Paris:20160219T210000
CATEGORIES:75006
LOCATION:forum 104
WEBSITE:
URL:
CONTACT:0612199141
ORGANIZER;CN="Christophe Dacier":https://epanews.fr/profile/Christophe
 Dacier
ATTACH;FMTTYPE="image/jpeg":http://storage.ning.com/topology/rest/1.0/
 file/get/1663526820?profile=original
ATTENDEE;ROLE=REQ-PARTICIPANT;PARTSTAT=ACCEPTED;RSVP=TRUE;CN="Christop
 he Dacier":https://epanews.fr/profile/ChristopheDacier
END:VEVENT
END:VCALENDAR
