BEGIN:VCALENDAR
PRODID:NingEventWidget-v1
VERSION:2.0
METHOD:PUBLISH
BEGIN:VTIMEZONE
TZID:Europe/Paris
X-LIC-LOCATION:Europe/Paris
BEGIN:DAYLIGHT
TZOFFSETFROM:+0100
TZOFFSETTO:+0200
TZNAME:CEST
DTSTART:19700329T020000
RRULE:FREQ=YEARLY;BYMONTH=3;BYDAY=-1SU
END:DAYLIGHT
BEGIN:STANDARD
TZOFFSETFROM:+0200
TZOFFSETTO:+0100
TZNAME:CET
DTSTART:19701025T030000
RRULE:FREQ=YEARLY;BYMONTH=10;BYDAY=-1SU
END:STANDARD
END:VTIMEZONE
BEGIN:VEVENT
UID:2485226:Event:2201318
DTSTAMP:20260425T174940Z
SUMMARY:Galette Champagne Cadeaux 13006
DESCRIPTION:Sous le signe de la convivialité, du plaisir des papilles
 , des rencontres sympathiques et des surprises, venez déguster la fam
 euse \"galette des rois\" et trinquer à l'an 2015.Au menu : 1 part de
  galette des rois et peut-être la fève, 1 coupe de champagne ou 1 ve
 rre de jus de fruits ou 1 verre de cidre, quelques friandises surprise
 s !!!Le +++ de la soirée : celui qui aura la fève gagnera un \"bon c
 adeau\" pour une séance de Massage-Bien-Être Holistique® de 45 mn d
 'une valeur 50 € !Le méga ++++ de la soirée : chaque participant r
 ecevra un cadeau !!!Quand : mardi 27 janvier 2015 de 19h à 20h45.Tari
 f : 5 €.À cette occasion, venez découvrir Le centre de formation L
 es 13 Portes et rencontrer les fondateurs de la Méthode Corps-Émotio
 n-Parole®.Vous souhaitez plus d'informations ou vous inscrire, appele
 z-nous au 04 91 482 991.À vos agendas !!!\n\nPour plus d'information,
  aller sur https://epanews.fr/events/galette-champagne-cadeaux-13006
DTSTART;TZID=Europe/Paris:20150127T190000
DTEND;TZID=Europe/Paris:20150127T204500
CATEGORIES:13
LOCATION:Marseille
WEBSITE:
URL:
CONTACT:04 91 482 991
ORGANIZER;CN=VERGER:https://epanews.fr/profile/VERGER
ATTACH;FMTTYPE="image/jpeg":http://storage.ning.com/topology/rest/1.0/
 file/get/1663310941?profile=original
ATTENDEE;ROLE=REQ-PARTICIPANT;PARTSTAT=ACCEPTED;RSVP=TRUE;CN=VERGER:ht
 tps://epanews.fr/profile/VERGER
END:VEVENT
END:VCALENDAR
