BEGIN:VCALENDAR
PRODID:NingEventWidget-v1
VERSION:2.0
METHOD:PUBLISH
BEGIN:VTIMEZONE
TZID:Europe/Paris
X-LIC-LOCATION:Europe/Paris
BEGIN:DAYLIGHT
TZOFFSETFROM:+0100
TZOFFSETTO:+0200
TZNAME:CEST
DTSTART:19700329T020000
RRULE:FREQ=YEARLY;BYMONTH=3;BYDAY=-1SU
END:DAYLIGHT
BEGIN:STANDARD
TZOFFSETFROM:+0200
TZOFFSETTO:+0100
TZNAME:CET
DTSTART:19701025T030000
RRULE:FREQ=YEARLY;BYMONTH=10;BYDAY=-1SU
END:STANDARD
END:VTIMEZONE
BEGIN:VEVENT
UID:2485226:Event:2656211
DTSTAMP:20260421T151637Z
SUMMARY:gala mantra 2ème édition
DESCRIPTION:Rassemblement autour des chants sacrés plus de renseignem
 ents sur www.terrenchantee.com\n\nPour plus d'information, aller sur h
 ttps://epanews.fr/events/gala-mantra
DTSTART;TZID=Europe/Paris:20160611T140000
DTEND;TZID=Europe/Paris:20160611T230000
CATEGORIES:13
LOCATION:Aix en Provence  ---- la baume les Aix
WEBSITE:http://www.terrenchantee.com
URL:http://www.terrenchantee.com
CONTACT:
ORGANIZER;CN="Claude Brame":https://epanews.fr/profile/claudeBrame
ATTACH;FMTTYPE="image/jpeg":
ATTENDEE;ROLE=REQ-PARTICIPANT;PARTSTAT=ACCEPTED;RSVP=TRUE;CN="Claude B
 rame":https://epanews.fr/profile/claudeBrame
END:VEVENT
END:VCALENDAR
