BEGIN:VCALENDAR
PRODID:NingEventWidget-v1
VERSION:2.0
METHOD:PUBLISH
BEGIN:VTIMEZONE
TZID:Europe/Paris
X-LIC-LOCATION:Europe/Paris
BEGIN:DAYLIGHT
TZOFFSETFROM:+0100
TZOFFSETTO:+0200
TZNAME:CEST
DTSTART:19700329T020000
RRULE:FREQ=YEARLY;BYMONTH=3;BYDAY=-1SU
END:DAYLIGHT
BEGIN:STANDARD
TZOFFSETFROM:+0200
TZOFFSETTO:+0100
TZNAME:CET
DTSTART:19701025T030000
RRULE:FREQ=YEARLY;BYMONTH=10;BYDAY=-1SU
END:STANDARD
END:VTIMEZONE
BEGIN:VEVENT
UID:2485226:Event:782223
DTSTAMP:20260422T022646Z
SUMMARY:Geobiologie, coévolution quantique et esprits de la nature en
  Suisse
DESCRIPTION:géobiologie et coévolution quantique, esprits de la natu
 re et evolution spirituelle du 24 au 28 Août 2012 en Suisse  pas de c
 royance, juste l'expérience reproductible...\n\nIntroduction sur cinq
  jours à la géobiologie, aux esprits de la nature et aux ouvertures 
 temporelles, en Suisse aux Plans-sur-Bex   Durant ce stage, dans une p
 remière phase vous  apprendrez :  • à ressentir et mesurer objecti
 vement l’énergie vitale de votre environnement uniquement avec votr
 e corps  (vous-même et les autres, eau, nourriture, lieux, remèdes, 
 …) ainsi que les différentes influences qui nous entourent (portabl
 e, champ magnétique,...), par la variation de votre biochamp • à p
 orter un autre regard sur les influences négatives pour rentrer dans 
 un nouveau paradigme basé sur l'Amour  • une première approche de 
 la géobiologie quantique en lien avec les forces de la nature et du t
 emps circulaire (ouvertures temporelles) comme outil de compréhension
   • A aborder et utiliser l'énergie de différents hauts lieux au c
 oeur du circuit des églises romanes (église, source miraculeuse, mé
 galithe, ...), nous visitons et utilisons au moins un site.  • A com
 prendre ce que nous pouvons retirer (et apporter) en terme de developp
 ement personnel et spirituel du contact avec les esprits de la nature 
 et des forces spirituelles.  • A dynamiser de manière simple et aut
 onome de l'eau (base de la vie et de l'information)  • A approcher p
 ar le son et la voix les lieux sacrés  • A apprendre à faire confi
 ance (et prendre conscience) à vos ressentis, pour suivre votre chemi
 n  • A intégrer l'approche de l'apprentissage par la coévolution q
 uantique qui permet une mise en résonnance de tous le groupe et la di
 ffusion de l'expérience de chacun à tous. Cela change la donne en ma
 tière d'évolution et d'apprentissage...  Un changement de paradigme 
 qui fait bouger les lignes pour prendre conscience de l'information ci
 rculant entre les humains et enfin prendre un chemin d'autonomie. Plus
  d'informations sur ce point \n\n\n  Lieu : Les Plans-sur-Bex (Suisse)
  au chalet de l'ancienne poste  \n\nPlus d'informations sur le stage g
 éobiologie Suisse  Contact pour informations ou inscription  Animateu
 r Jean-Pierre Martinez Tel 03 85 59 24 51  une petite video sur le bio
 champ\n\nPour plus d'information, aller sur https://epanews.fr/events/
 g-obiologie-co-volution-quantique-et-esprits-de-la-nature-en
DTSTART;TZID=Europe/Paris:20120824T000000
DTEND;TZID=Europe/Paris:20120824T235900
CATEGORIES:suisse
LOCATION:Genève
WEBSITE:http://www.esprit-de-la-nature.fr/geobiologie/geobiologie-coev
 olution-quantique-suisse-aout-t1802.html
URL:http://www.esprit-de-la-nature.fr/geobiologie/geobiologie-coevolut
 ion-quantique-suisse-aout-t1802.html
CONTACT:03 85 59 24 51
ORGANIZER;CN="Martinez Jean-Pierre Géobiologie":https://epanews.fr/pr
 ofile/geobiologiequantique
ATTACH;FMTTYPE="image/jpeg":
ATTENDEE;ROLE=REQ-PARTICIPANT;PARTSTAT=ACCEPTED;RSVP=TRUE;CN="Martinez
  Jean-Pierre Géobiologie":https://epanews.fr/profile/geobiologiequant
 ique
END:VEVENT
END:VCALENDAR
