BEGIN:VCALENDAR
PRODID:NingEventWidget-v1
VERSION:2.0
METHOD:PUBLISH
BEGIN:VTIMEZONE
TZID:Europe/Paris
X-LIC-LOCATION:Europe/Paris
BEGIN:DAYLIGHT
TZOFFSETFROM:+0100
TZOFFSETTO:+0200
TZNAME:CEST
DTSTART:19700329T020000
RRULE:FREQ=YEARLY;BYMONTH=3;BYDAY=-1SU
END:DAYLIGHT
BEGIN:STANDARD
TZOFFSETFROM:+0200
TZOFFSETTO:+0100
TZNAME:CET
DTSTART:19701025T030000
RRULE:FREQ=YEARLY;BYMONTH=10;BYDAY=-1SU
END:STANDARD
END:VTIMEZONE
BEGIN:VEVENT
UID:2485226:Event:2871751
DTSTAMP:20260422T125747Z
SUMMARY:Conférence François Lemay
DESCRIPTION:Conférence François Lemay à Lyon\nFrançois Lemay à Ly
 on\n\n\nPour plus d'information, aller sur https://epanews.fr/events/f
 ran-oise-ballester
DTSTART;TZID=Europe/Paris:20170922T190000
DTEND;TZID=Europe/Paris:20170922T223000
CATEGORIES:69
LOCATION:Espace de l’ouest Lyonnais 6, rue Nicolas Sicard 69005 Lyon
WEBSITE:
URL:
CONTACT:
ORGANIZER;CN="Françoise Ballester":https://epanews.fr/profile/Francoi
 seBallester
ATTACH;FMTTYPE="image/jpeg":http://storage.ning.com/topology/rest/1.0/
 file/get/1663687072?profile=original
ATTENDEE;ROLE=REQ-PARTICIPANT;PARTSTAT=ACCEPTED;RSVP=TRUE;CN="Françoi
 se Ballester":https://epanews.fr/profile/FrancoiseBallester
END:VEVENT
END:VCALENDAR
