BEGIN:VCALENDAR
PRODID:NingEventWidget-v1
VERSION:2.0
METHOD:PUBLISH
BEGIN:VTIMEZONE
TZID:Europe/Paris
X-LIC-LOCATION:Europe/Paris
BEGIN:DAYLIGHT
TZOFFSETFROM:+0100
TZOFFSETTO:+0200
TZNAME:CEST
DTSTART:19700329T020000
RRULE:FREQ=YEARLY;BYMONTH=3;BYDAY=-1SU
END:DAYLIGHT
BEGIN:STANDARD
TZOFFSETFROM:+0200
TZOFFSETTO:+0100
TZNAME:CET
DTSTART:19701025T030000
RRULE:FREQ=YEARLY;BYMONTH=10;BYDAY=-1SU
END:STANDARD
END:VTIMEZONE
BEGIN:VEVENT
UID:2485226:Event:903392
DTSTAMP:20260421T185900Z
SUMMARY:Forum des Associations Agora
DESCRIPTION:Venez me rencontrer au Forum des Associations Agora le 15 
 septembre dans le centre-ville d'Amiens. J'y tiendrai un stand pour pr
 ésenter mes activités et participerai au concert de l'Orchestre de B
 artch où des sophronisants se mettront à faire de la musique...\n\nP
 our plus d'information, aller sur https://epanews.fr/events/forum-des-
 associations-agora
DTSTART;TZID=Europe/Paris:20120915T000000
DTEND;TZID=Europe/Paris:20120915T235900
CATEGORIES:80
LOCATION:Amiens
WEBSITE:
URL:
CONTACT:
ORGANIZER:Maam
ATTACH;FMTTYPE="image/jpeg":
ATTENDEE;ROLE=REQ-PARTICIPANT;PARTSTAT=ACCEPTED;RSVP=TRUE;CN=laurent:h
 ttps://epanews.fr/profile/mespilo
END:VEVENT
END:VCALENDAR
