BEGIN:VCALENDAR
PRODID:NingEventWidget-v1
VERSION:2.0
METHOD:PUBLISH
BEGIN:VTIMEZONE
TZID:Europe/Paris
X-LIC-LOCATION:Europe/Paris
BEGIN:DAYLIGHT
TZOFFSETFROM:+0100
TZOFFSETTO:+0200
TZNAME:CEST
DTSTART:19700329T020000
RRULE:FREQ=YEARLY;BYMONTH=3;BYDAY=-1SU
END:DAYLIGHT
BEGIN:STANDARD
TZOFFSETFROM:+0200
TZOFFSETTO:+0100
TZNAME:CET
DTSTART:19701025T030000
RRULE:FREQ=YEARLY;BYMONTH=10;BYDAY=-1SU
END:STANDARD
END:VTIMEZONE
BEGIN:VEVENT
UID:2485226:Event:1953139
DTSTAMP:20260423T093902Z
SUMMARY:Forum de Biodanza à Paris
DESCRIPTION:\n\n\nLa Biodanza au Coeur des Processus de Santé\nForum 
 à Paris, les 28-29 juin 2014\n\n\n\n\n\n\nPour plus d'information, al
 ler sur https://epanews.fr/events/forum-de-biodanza-paris
DTSTART;TZID=Europe/Paris:20140628T133000
DTEND;TZID=Europe/Paris:20140629T170000
CATEGORIES:75
LOCATION:Paris
WEBSITE:http://www.biodanza-france.com/ecole_idf/forum2014.html
URL:http://www.biodanza-france.com/ecole_idf/forum2014.html
CONTACT:01 46 29 07 92  ou 06 28 49 35 26
ORGANIZER;CN="Biodanza Nathalie":https://epanews.fr/profile/Arnould
ATTACH;FMTTYPE="image/jpeg":
ATTENDEE;ROLE=REQ-PARTICIPANT;PARTSTAT=ACCEPTED;RSVP=TRUE;CN="Biodanza
  Nathalie":https://epanews.fr/profile/Arnould
END:VEVENT
END:VCALENDAR
