BEGIN:VCALENDAR
PRODID:NingEventWidget-v1
VERSION:2.0
METHOD:PUBLISH
BEGIN:VTIMEZONE
TZID:Europe/Paris
X-LIC-LOCATION:Europe/Paris
BEGIN:DAYLIGHT
TZOFFSETFROM:+0100
TZOFFSETTO:+0200
TZNAME:CEST
DTSTART:19700329T020000
RRULE:FREQ=YEARLY;BYMONTH=3;BYDAY=-1SU
END:DAYLIGHT
BEGIN:STANDARD
TZOFFSETFROM:+0200
TZOFFSETTO:+0100
TZNAME:CET
DTSTART:19701025T030000
RRULE:FREQ=YEARLY;BYMONTH=10;BYDAY=-1SU
END:STANDARD
END:VTIMEZONE
BEGIN:VEVENT
UID:2485226:Event:2600203
DTSTAMP:20260422T094022Z
SUMMARY:Formation ThetaHealing ADN2 Base
DESCRIPTION:Â«Â Tout est possible, seules vos croyances vous limitentÂ
  : apprenez Ã  les explorer et Ã  les changer tout en grandissant Ã  t
 ravers ce quâ€™elles vous ont enseignÃ©. Transformez votre rÃ©alitÃ© e
 t devenez crÃ©ateur de votre vieÂ Â»Â Â \nLe ThetaHealingÂ : Cette tec
 hnique de soin quantique dÃ©veloppÃ©e par Vianna Stibal vous permet no
 n seulement de perfectionner vos capacitÃ©s psychiques et de vous reco
 nnecter Ã  votre vraie nature divine, mais Ã©galement de transformer v
 otre vie, dâ€™en devenir le crÃ©ateur, de rÃ©veiller le potentiel qui 
 dort en vous pour devenir la meilleure version de vous-mÃªmeÂ !Â \n\nC
 ommentÂ ? Les pensÃ©es, les sentiments, les Ã©vÃ¨nements marquants dan
 s nos vies passÃ©es et prÃ©sentes, conditionnent notre rÃ©alitÃ© intÃ©
 rieure, et dÃ©terminent donc notre rÃ©alitÃ© extÃ©rieure. Ils agissent
  sur notre biochimie comme des frÃ©quences transmettant des informatio
 ns Ã  notre ADN, lui-mÃªme chargÃ© de diffuser ces messages aux cellul
 es de notre corps. EnÂ  mÃ©ditation focalisÃ©e - onde cÃ©rÃ©brale thet
 a - le Thetahealer se connecte Ã  la source pure, la conscience de Tou
 t ce Qui Est, et peut ainsi dÃ©programmer et reprogrammer, avec votre 
 accord, de nouvelles croyances dans les niveaux physique, Ã©motionnel,
  mental et spirituel de la personne tout en gardant son apprentissage.
  Lâ€™intention Ã©tantÂ  de se crÃ©er une vie meilleure tout en prÃ©ser
 vant les apprentissages que la vie amÃ¨ne, sans souffrances. Et pour c
 eux qui veulent aller plus loin,Â  dâ€™Ã©lever notre vibration en intÃ
 ©grant et en dÃ©veloppant les qualitÃ©s et vertus nÃ©cessaires pour re
 trouver notre vÃ©ritable essence.Â \n\nA qui sâ€™adressent ces formati
 onsÂ ?Â \nA toute personne dÃ©sireuse de se libÃ©rer des spirales rÃ©p
 Ã©titives et limitantes dans sa vie tout en intÃ©grant ses apprentissa
 ges, Ã  toute personne souhaitant sâ€™Ã©lever spirituellement, Ã  tout
  thÃ©rapeute souhaitant apporter une technique quantique Ã  ses soins.
 Â \n\nQuelques dÃ©tails de ce que vous allez apprendreÂ :Â \n\nADN2 Ba
 seÂ : vous apprendrez Ã  faire des lectures intuitives, Ã  changer des
  croyances, Ã  vous familiariser avec les plans dâ€™existence, Ã  vous
  connecter Ã  la Conscience Pure, Ã  manifester dans votre vie, Ã  net
 toyer des lieux, des objets et des personnes. Activation de lâ€™ADN.\n
 \n\n\nPour plus d'information, aller sur https://epanews.fr/events/for
 mations-theta-healing-adn-base-et-avanc
DTSTART;TZID=Europe/Paris:20160329T000000
DTEND;TZID=Europe/Paris:20160331T235900
CATEGORIES:13
LOCATION:Eguilles-Aix-en-Provence
WEBSITE:
URL:
CONTACT:06 22 59 31 68
ORGANIZER;CN="Sandrine Thetahealing":https://epanews.fr/profile/Sandri
 neThetahealing
ATTACH;FMTTYPE="image/jpeg":http://storage.ning.com/topology/rest/1.0/
 file/get/1663539250?profile=original
ATTENDEE;ROLE=REQ-PARTICIPANT;PARTSTAT=ACCEPTED;RSVP=TRUE;CN="Sandrine
  Thetahealing":https://epanews.fr/profile/SandrineThetahealing
END:VEVENT
END:VCALENDAR
