BEGIN:VCALENDAR
PRODID:NingEventWidget-v1
VERSION:2.0
METHOD:PUBLISH
BEGIN:VTIMEZONE
TZID:Europe/Paris
X-LIC-LOCATION:Europe/Paris
BEGIN:DAYLIGHT
TZOFFSETFROM:+0100
TZOFFSETTO:+0200
TZNAME:CEST
DTSTART:19700329T020000
RRULE:FREQ=YEARLY;BYMONTH=3;BYDAY=-1SU
END:DAYLIGHT
BEGIN:STANDARD
TZOFFSETFROM:+0200
TZOFFSETTO:+0100
TZNAME:CET
DTSTART:19701025T030000
RRULE:FREQ=YEARLY;BYMONTH=10;BYDAY=-1SU
END:STANDARD
END:VTIMEZONE
BEGIN:VEVENT
UID:2485226:Event:3007736
DTSTAMP:20260423T102002Z
SUMMARY:Formation ThetaHealing \"le jeu de la vie\"
DESCRIPTION:Et si ce qui vous empêche de réaliser vos projets, vos a
 vancements dans la vie, le succès d'une relation était dû à des cr
 oyances que vous entretenez depuis l'enfance avec les personnes qui vo
 us ont élevé, éduqué, entouré, ou des liens ou des obligations qu
 e vous gardez avec des personnes, d'anciens conjoints, des lieux, un a
 ncien travail, etc. En trois jours, vous allez voir les 7 étapes qui 
 permettent de changer les programmes subconscients bloquants en progra
 mmes positifs et en actions à mettre en place.\n\nPour plus d'informa
 tion, aller sur https://epanews.fr/events/formation-thetahealing-le-je
 u-de-la-vie
DTSTART;TZID=Europe/Paris:20190222T090000
DTEND;TZID=Europe/Paris:20190224T170000
CATEGORIES:85
LOCATION:Mareuil-sur-Lay, Vendée
WEBSITE:https://www.cooltheta.com/le-jeu-de-la-vie
URL:https://www.cooltheta.com/le-jeu-de-la-vie
CONTACT:0688 25 79 74
ORGANIZER;CN=CoolTheta:https://epanews.fr/profile/CoolTheta
ATTACH;FMTTYPE="image/jpeg":https://storage.ning.com/topology/rest/1.0
 /file/get/831325466?profile=original
ATTENDEE;ROLE=REQ-PARTICIPANT;PARTSTAT=ACCEPTED;RSVP=TRUE;CN=CoolTheta
 :https://epanews.fr/profile/CoolTheta
END:VEVENT
END:VCALENDAR
