BEGIN:VCALENDAR
PRODID:NingEventWidget-v1
VERSION:2.0
METHOD:PUBLISH
BEGIN:VTIMEZONE
TZID:Europe/Paris
X-LIC-LOCATION:Europe/Paris
BEGIN:DAYLIGHT
TZOFFSETFROM:+0100
TZOFFSETTO:+0200
TZNAME:CEST
DTSTART:19700329T020000
RRULE:FREQ=YEARLY;BYMONTH=3;BYDAY=-1SU
END:DAYLIGHT
BEGIN:STANDARD
TZOFFSETFROM:+0200
TZOFFSETTO:+0100
TZNAME:CET
DTSTART:19701025T030000
RRULE:FREQ=YEARLY;BYMONTH=10;BYDAY=-1SU
END:STANDARD
END:VTIMEZONE
BEGIN:VEVENT
UID:2485226:Event:2601042
DTSTAMP:20260422T164917Z
SUMMARY:Formation ThetaHealing ADN2 AvancÃ©
DESCRIPTION:\" Tout est possible, seules vos croyances vous limitentÂ 
 : apprenez Ã  les explorer et Ã  les changer tout en grandissant Ã  tr
 avers ce quâ€™elles vous ont enseignÃ©. Transformez votre rÃ©alitÃ© et
  devenez crÃ©ateur de votre vieÂ Â» Â \nÂ Le ThetaHealingÂ : Cette tec
 hnique de soin quantique dÃ©veloppÃ©e par Vianna Stibal vous permet no
 n seulement de perfectionner vos capacitÃ©s psychiques et de vous reco
 nnecter Ã  votre vraie nature divine, mais Ã©galement de transformer v
 otre vie, dâ€™en devenir le crÃ©ateur, de rÃ©veiller le potentiel qui 
 dort en vous pour devenir la meilleure version de vous-mÃªmeÂ !Â \nCom
 mentÂ ? Les pensÃ©es, les sentiments, les Ã©vÃ¨nements marquants dans 
 nos vies passÃ©es et prÃ©sentes, conditionnent notre rÃ©alitÃ© intÃ©ri
 eure, et dÃ©terminent donc notre rÃ©alitÃ© extÃ©rieure. Ils agissent s
 ur notre biochimie comme des frÃ©quences transmettant des informations
  Ã  notre ADN, lui-mÃªme chargÃ© de diffuser ces messages aux cellules
  de notre corps. EnÂ  mÃ©ditation focalisÃ©e - onde cÃ©rÃ©brale theta 
 - le Thetahealer se connecte Ã  la source pure, la conscience de Tout 
 ce Qui Est, et peut ainsi dÃ©programmer et reprogrammer, avec votre ac
 cord, de nouvelles croyances dans les niveaux physique, Ã©motionnel, m
 ental et spirituel de la personne tout en gardant son apprentissage. L
 â€™intention Ã©tantÂ  de se crÃ©er une vie meilleure tout en prÃ©serva
 nt les apprentissages que la vie amÃ¨ne, sans souffrances. Et pour ceu
 x qui veulent aller plus loin,Â  dâ€™Ã©lever notre vibration en intÃ©g
 rant et en dÃ©veloppant les qualitÃ©s et vertus nÃ©cessaires pour retr
 ouver notre vÃ©ritable essence.Â \nA qui sâ€™adressent ces formationsÂ
  ?Â \nA toute personne dÃ©sireuse de se libÃ©rer des spirales rÃ©pÃ©ti
 tives et limitantes dans sa vie tout en intÃ©grant ses apprentissages,
  Ã  toute personne souhaitant sâ€™Ã©lever spirituellement, Ã  tout thÃ
 ©rapeute souhaitant apporter une technique quantique Ã  ses soins.Â \n
 Quelques dÃ©tails de ce que vous allez apprendreÂ :Â \nADN2 AvancÃ©Â :
  ( PrÃ©-Requis : ADN2 Base) Vous vous familiariserez avec le travail s
 ur les sentiments, comment les libÃ©rer, vous pratiquerez la lecture i
 ntuitive sur les plantes, les animaux, les personnes, approfondirez vo
 tre connaissance des diffÃ©rents plans dâ€™existence, apprendrez Ã  gu
 Ã©rir les Ã¢mes brisÃ©es, Ã  pratiquer lâ€™exerciceÂ : Â«Â Envoyer de 
 lâ€™amour au bÃ©bÃ© dans le ventreÂ», libÃ©rer les mÃ©moires flottante
 s, Ã  vous connecter Ã  votre moi supÃ©rieur.Â  Et bien dâ€™autres cho
 sesâ€¦\nPour en savoir plusÂ :Â www.thetahealingfrance-provence.fr\nIn
 scriptionsÂ :Â moirenc.sandrine@gmail.comÂ / 06 22 59 31 68\nLove&Ligh
 t\n\nPour plus d'information, aller sur https://epanews.fr/events/form
 ation-thetahealing-adn2-avanc
DTSTART;TZID=Europe/Paris:20160401T000000
DTEND;TZID=Europe/Paris:20160403T235900
CATEGORIES:13
LOCATION:Eguilles-Aix-en-Provence
WEBSITE:
URL:
CONTACT:
ORGANIZER;CN="Sandrine Thetahealing":https://epanews.fr/profile/Sandri
 neThetahealing
ATTACH;FMTTYPE="image/jpeg":http://storage.ning.com/topology/rest/1.0/
 file/get/1663540283?profile=original
ATTENDEE;ROLE=REQ-PARTICIPANT;PARTSTAT=ACCEPTED;RSVP=TRUE;CN="Sandrine
  Thetahealing":https://epanews.fr/profile/SandrineThetahealing
END:VEVENT
END:VCALENDAR
