BEGIN:VCALENDAR
PRODID:NingEventWidget-v1
VERSION:2.0
METHOD:PUBLISH
BEGIN:VTIMEZONE
TZID:Europe/Paris
X-LIC-LOCATION:Europe/Paris
BEGIN:DAYLIGHT
TZOFFSETFROM:+0100
TZOFFSETTO:+0200
TZNAME:CEST
DTSTART:19700329T020000
RRULE:FREQ=YEARLY;BYMONTH=3;BYDAY=-1SU
END:DAYLIGHT
BEGIN:STANDARD
TZOFFSETFROM:+0200
TZOFFSETTO:+0100
TZNAME:CET
DTSTART:19701025T030000
RRULE:FREQ=YEARLY;BYMONTH=10;BYDAY=-1SU
END:STANDARD
END:VTIMEZONE
BEGIN:VEVENT
UID:2485226:Event:107072
DTSTAMP:20260422T145136Z
SUMMARY:Formation Tao Animateur 16&17 Décembre
DESCRIPTION:Venez-vous initier à la pratique de l'animation de jeu du
  TAO. Cette formation sera l'occasion d'apprendre ou d'approfondir les
  concepts liés au jeu, l'histoire et les légendes ainsi qu'expérime
 nter, avec des professionnels, la posture d'animateur\nhttp://taovilla
 ge.com/images/documents/formation_tao_animateur_2728septembre2010.pdf\
 n\n>>VOIR LE PROGRAMME COMPLET<<\n\nPour plus d'information, aller sur
  https://epanews.fr/events/formation-tao-animateur-1617
DTSTART;TZID=Europe/Paris:20101216T000000
DTEND;TZID=Europe/Paris:20101217T235900
CATEGORIES:75
LOCATION:Tao Village
WEBSITE:http://www.jeudutao.fr
URL:http://www.jeudutao.fr
CONTACT:0144758000 / 0672923558
ORGANIZER;CN=Taovillage:https://epanews.fr/profile/Taovillage
ATTACH;FMTTYPE="image/jpeg":http://storage.ning.com/topology/rest/1.0/
 file/get/1662336521?profile=original
ATTENDEE;ROLE=REQ-PARTICIPANT;PARTSTAT=ACCEPTED;RSVP=TRUE;CN=Taovillag
 e:https://epanews.fr/profile/Taovillage
END:VEVENT
END:VCALENDAR
