BEGIN:VCALENDAR
PRODID:NingEventWidget-v1
VERSION:2.0
METHOD:PUBLISH
BEGIN:VTIMEZONE
TZID:Europe/Paris
X-LIC-LOCATION:Europe/Paris
BEGIN:DAYLIGHT
TZOFFSETFROM:+0100
TZOFFSETTO:+0200
TZNAME:CEST
DTSTART:19700329T020000
RRULE:FREQ=YEARLY;BYMONTH=3;BYDAY=-1SU
END:DAYLIGHT
BEGIN:STANDARD
TZOFFSETFROM:+0200
TZOFFSETTO:+0100
TZNAME:CET
DTSTART:19701025T030000
RRULE:FREQ=YEARLY;BYMONTH=10;BYDAY=-1SU
END:STANDARD
END:VTIMEZONE
BEGIN:VEVENT
UID:2485226:Event:1957502
DTSTAMP:20260422T212355Z
SUMMARY:Formation SRT - Thérapie par Réponse Spirituelle
DESCRIPTION:Qu’est ce que la SRT ou « Thérapie par Réponse Spirit
 uelle » ?\nLe SRT consiste à ramener la paix, l’harmonie et l’é
 quilibre à la personne dans toutes ses dimensions et de retrouver son
  chemin, son autonomie et sa lumière intérieure.\nComment ça marche
  ?\nLe SRT utilise la radiesthésie pour contourner l’esprit conscie
 nt et sa programmation négative. Il y a une connexion avec l’incons
 cient.\nGrace aux nombreux tableaux crées par Robert E Detzler et uti
 lisés dans plus de 35 pays, des mémoires des Annales Akashique, des 
 programmes au niveau de l’Ame et/ou des schémas répétitifs peuven
 t être effacés ou transmutés ; Libérant ainsi la personne vers un 
 mieux-être ; une légèreté.\n\nLa formation de Base commence le 29 
 juin 2014...encore qq places... regarder le site SRTFr.com pour plus 
 d'info.\n\nPour plus d'information, aller sur https://epanews.fr/event
 s/formation-srt-th-rapie-par-r-ponse-spirituelle
DTSTART;TZID=Europe/Paris:20140629T000000
DTEND;TZID=Europe/Paris:20140701T235900
CATEGORIES:tous
LOCATION:95 proche de Paris
WEBSITE:http://www.SrtFr.com
URL:http://www.SrtFr.com
CONTACT:06-74-82-54-33
ORGANIZER:Srt France
ATTACH;FMTTYPE="image/jpeg":
ATTENDEE;ROLE=REQ-PARTICIPANT;PARTSTAT=ACCEPTED;RSVP=TRUE;CN=Srt:https
 ://epanews.fr/profile/Srt
END:VEVENT
END:VCALENDAR
