BEGIN:VCALENDAR
PRODID:NingEventWidget-v1
VERSION:2.0
METHOD:PUBLISH
BEGIN:VTIMEZONE
TZID:Europe/Paris
X-LIC-LOCATION:Europe/Paris
BEGIN:DAYLIGHT
TZOFFSETFROM:+0100
TZOFFSETTO:+0200
TZNAME:CEST
DTSTART:19700329T020000
RRULE:FREQ=YEARLY;BYMONTH=3;BYDAY=-1SU
END:DAYLIGHT
BEGIN:STANDARD
TZOFFSETFROM:+0200
TZOFFSETTO:+0100
TZNAME:CET
DTSTART:19701025T030000
RRULE:FREQ=YEARLY;BYMONTH=10;BYDAY=-1SU
END:STANDARD
END:VTIMEZONE
BEGIN:VEVENT
UID:2485226:Event:2932875
DTSTAMP:20260421T143448Z
SUMMARY:Formation reiki usui premier degré
DESCRIPTION:Bonjour à Toutes et Tous,\nJe vous propose une formation 
 au 1er Degré de REIKI Usui qui se déroulera sur deux jours les Mardi
 s 20 et 27 Février 2018 à Fontenay le Fleury.\nSi vous êtes intére
 ssés, n'hésitez pas à m'appeler pour de plus amples informations.\n
 Au plaisir de vous rencontrer pour un moment de pure transformation po
 ur votre plus grand bien ! :-)\nA très bientôt,\nISAbELle\n\n\n\nPou
 r plus d'information, aller sur https://epanews.fr/events/formation-re
 iki-usui-premier-degr
DTSTART;TZID=Europe/Paris:20180220T000000
DTEND;TZID=Europe/Paris:20180220T235900
CATEGORIES:78
LOCATION:FONTENAY LE FLEURY
WEBSITE:
URL:
CONTACT:06.50.53.77.25
ORGANIZER;CN=ISAEL:https://epanews.fr/profile/ISAEL
ATTACH;FMTTYPE="image/jpeg":http://storage.ning.com/topology/rest/1.0/
 file/get/1663720858?profile=original
ATTENDEE;ROLE=REQ-PARTICIPANT;PARTSTAT=ACCEPTED;RSVP=TRUE;CN=ISAEL:htt
 ps://epanews.fr/profile/ISAEL
END:VEVENT
END:VCALENDAR
