BEGIN:VCALENDAR
PRODID:NingEventWidget-v1
VERSION:2.0
METHOD:PUBLISH
BEGIN:VTIMEZONE
TZID:Europe/Paris
X-LIC-LOCATION:Europe/Paris
BEGIN:DAYLIGHT
TZOFFSETFROM:+0100
TZOFFSETTO:+0200
TZNAME:CEST
DTSTART:19700329T020000
RRULE:FREQ=YEARLY;BYMONTH=3;BYDAY=-1SU
END:DAYLIGHT
BEGIN:STANDARD
TZOFFSETFROM:+0200
TZOFFSETTO:+0100
TZNAME:CET
DTSTART:19701025T030000
RRULE:FREQ=YEARLY;BYMONTH=10;BYDAY=-1SU
END:STANDARD
END:VTIMEZONE
BEGIN:VEVENT
UID:2485226:Event:2635980
DTSTAMP:20260422T003241Z
SUMMARY:Formation Reiki Usui 3ème Degré
DESCRIPTION:REIKI%203.pdf\n\nPour plus d'information, aller sur https:
 //epanews.fr/events/formation-reiki-usui-3-me-degr
DTSTART;TZID=Europe/Paris:20160521T093000
DTEND;TZID=Europe/Paris:20160522T180000
CATEGORIES:78
LOCATION:POISSY
WEBSITE:
URL:
CONTACT:
ORGANIZER;CN=ISAbELle:https://epanews.fr/profile/ISAbELle163
ATTACH;FMTTYPE="image/jpeg":
ATTENDEE;ROLE=REQ-PARTICIPANT;PARTSTAT=ACCEPTED;RSVP=TRUE;CN=ISAbELle:
 https://epanews.fr/profile/ISAbELle163
END:VEVENT
END:VCALENDAR
