BEGIN:VCALENDAR
PRODID:NingEventWidget-v1
VERSION:2.0
METHOD:PUBLISH
BEGIN:VTIMEZONE
TZID:Europe/Paris
X-LIC-LOCATION:Europe/Paris
BEGIN:DAYLIGHT
TZOFFSETFROM:+0100
TZOFFSETTO:+0200
TZNAME:CEST
DTSTART:19700329T020000
RRULE:FREQ=YEARLY;BYMONTH=3;BYDAY=-1SU
END:DAYLIGHT
BEGIN:STANDARD
TZOFFSETFROM:+0200
TZOFFSETTO:+0100
TZNAME:CET
DTSTART:19701025T030000
RRULE:FREQ=YEARLY;BYMONTH=10;BYDAY=-1SU
END:STANDARD
END:VTIMEZONE
BEGIN:VEVENT
UID:2485226:Event:2637783
DTSTAMP:20260422T193432Z
SUMMARY:Modification demandÃ©e
DESCRIPTION:La formation est ouverte aux personnes ayant dejÃ  reÃ§u l
 'initiaton 1. Elle se dÃ©roule sur deux joursÂ \nContenu de la formati
 on :\nÂ·Â Â Â Â Â Â Â  RÃ©vision du 1er degrÃ©,\nÂ·Â Â Â Â Â Â Â  Appr
 entissage des symboles, description, signification, et utilisation,\nÂ
 ·Â Â Â Â Â Â Â  Travail sur soi, explications et dÃ©roulement pour les
  mois Ã  venir,\nÂ·Â Â Â Â Â Â Â  Les 2 initiations,\nÂ·Â Â Â Â Â Â Â 
  MÃ©ditation,\nÂ· Â  Â  Â  Â Temps de questions.\nAprÃ¨s le 2Ã¨me degr
 Ã© + 21 jours dâ€™intÃ©gration et dâ€™auto-traitement, lâ€™initiÃ© peu
 t pratiquer le Reiki Ã  distance sur dâ€™autres personnes ainsi que su
 r des situations passÃ©es ou futures. A la suite de l'initiation, ce d
 egrÃ© comprend un travail sur soi trÃ¨s intÃ©ressant et enrichissant p
 ouvant aller de plusieurs semaines Ã  ...toute la vie...!\n\nPour plus
  d'information, aller sur https://epanews.fr/events/formation-reiki-us
 ui-2-me-degr-amiens
DTSTART;TZID=Europe/Paris:20160730T000000
DTEND;TZID=Europe/Paris:20160731T235900
CATEGORIES:80
LOCATION:AMIENS sud ouest
WEBSITE:http://www.energie-relaxation.fr/amiens/
URL:http://www.energie-relaxation.fr/amiens/
CONTACT:0650019941
ORGANIZER;CN="aline maugard":https://epanews.fr/profile/alinemaugard
ATTACH;FMTTYPE="image/jpeg":http://storage.ning.com/topology/rest/1.0/
 file/get/1663563287?profile=original
ATTENDEE;ROLE=REQ-PARTICIPANT;PARTSTAT=ACCEPTED;RSVP=TRUE;CN="aline ma
 ugard":https://epanews.fr/profile/alinemaugard
END:VEVENT
END:VCALENDAR
