BEGIN:VCALENDAR
PRODID:NingEventWidget-v1
VERSION:2.0
METHOD:PUBLISH
BEGIN:VTIMEZONE
TZID:Europe/Paris
X-LIC-LOCATION:Europe/Paris
BEGIN:DAYLIGHT
TZOFFSETFROM:+0100
TZOFFSETTO:+0200
TZNAME:CEST
DTSTART:19700329T020000
RRULE:FREQ=YEARLY;BYMONTH=3;BYDAY=-1SU
END:DAYLIGHT
BEGIN:STANDARD
TZOFFSETFROM:+0200
TZOFFSETTO:+0100
TZNAME:CET
DTSTART:19701025T030000
RRULE:FREQ=YEARLY;BYMONTH=10;BYDAY=-1SU
END:STANDARD
END:VTIMEZONE
BEGIN:VEVENT
UID:2485226:Event:1317089
DTSTAMP:20260423T134139Z
SUMMARY:Modification demandée
DESCRIPTION:Formation REIKI USUI - 1er degré\nLes 7 et 8 juin 2013.\n
 Animée par Karine Le Lannier, Maître et enseignante de Reiki Usui et
  praticienne de Reiki Karuna.\nPrix: 150 euros\nLieu: Centre Sakura, 2
 9 rue Jean Jaures, 31600 Muret\n\n\nPour plus d'information, aller sur
  https://epanews.fr/events/formation-reiki-usui-1er-degr
DTSTART;TZID=Europe/Paris:20130607T000000
DTEND;TZID=Europe/Paris:20130608T235900
CATEGORIES:31
LOCATION:Centre Sakura
WEBSITE:http://www.karine-lelannier.fr/
URL:http://www.karine-lelannier.fr/
CONTACT:
ORGANIZER;CN="Karine Le Lannier":https://epanews.fr/profile/KarineLeLa
 nnier
ATTACH;FMTTYPE="image/jpeg":http://storage.ning.com/topology/rest/1.0/
 file/get/1662818742?profile=original
ATTENDEE;ROLE=REQ-PARTICIPANT;PARTSTAT=ACCEPTED;RSVP=TRUE;CN="Karine L
 e Lannier":https://epanews.fr/profile/KarineLeLannier
END:VEVENT
END:VCALENDAR
