BEGIN:VCALENDAR
PRODID:NingEventWidget-v1
VERSION:2.0
METHOD:PUBLISH
BEGIN:VTIMEZONE
TZID:Europe/Paris
X-LIC-LOCATION:Europe/Paris
BEGIN:DAYLIGHT
TZOFFSETFROM:+0100
TZOFFSETTO:+0200
TZNAME:CEST
DTSTART:19700329T020000
RRULE:FREQ=YEARLY;BYMONTH=3;BYDAY=-1SU
END:DAYLIGHT
BEGIN:STANDARD
TZOFFSETFROM:+0200
TZOFFSETTO:+0100
TZNAME:CET
DTSTART:19701025T030000
RRULE:FREQ=YEARLY;BYMONTH=10;BYDAY=-1SU
END:STANDARD
END:VTIMEZONE
BEGIN:VEVENT
UID:2485226:Event:3122471
DTSTAMP:20260423T064419Z
SUMMARY:Formation Reiki Shoden (niveau I)
DESCRIPTION:La formation Shoden est une leçon de base sur le bien-êt
 re. Il traite de l'origine du Reiki Usui, de sa pratique, comment pren
 dre soin de soi et soulager les autres.\nObjectifs de la formation:\n1
 . Avoir une compréhension de base des énergies et des centres énerg
 étiques ainsi que leurs relations avec la santé et le bien-être.\n2
 . Comprendre le Reiki Usui - son histoire et son développement a trav
 ers le temps.\n3. Ses principes (préceptes) avec application sur notr
 e personnalité (qualités morales et mentales)\n4. Méditations, êtr
 e a l'écoute de son intuition et ses sensations\n5. Les positions de 
 mains pour l'auto-traitement et les soins aux autres.\nTarifs et info 
 ici:\nreiqimotion.com/formations\n\n\nPour plus d'information, aller s
 ur https://epanews.fr/events/formation-reiki-shoden-niveau-i
DTSTART;TZID=Europe/Paris:20211009T090000
DTEND;TZID=Europe/Paris:20211010T120000
CATEGORIES:46, 12
LOCATION:Figeac
WEBSITE:https://shine-asso.org/events/formation-reiki-usui-niveau-1/
URL:https://shine-asso.org/events/formation-reiki-usui-niveau-1/
CONTACT:
ORGANIZER;CN=Gérald:https://epanews.fr/profile/Gerald24
ATTACH;FMTTYPE="image/jpeg":
ATTENDEE;ROLE=REQ-PARTICIPANT;PARTSTAT=ACCEPTED;RSVP=TRUE;CN=Gérald:h
 ttps://epanews.fr/profile/Gerald24
END:VEVENT
END:VCALENDAR
