BEGIN:VCALENDAR
PRODID:NingEventWidget-v1
VERSION:2.0
METHOD:PUBLISH
BEGIN:VTIMEZONE
TZID:Europe/Paris
X-LIC-LOCATION:Europe/Paris
BEGIN:DAYLIGHT
TZOFFSETFROM:+0100
TZOFFSETTO:+0200
TZNAME:CEST
DTSTART:19700329T020000
RRULE:FREQ=YEARLY;BYMONTH=3;BYDAY=-1SU
END:DAYLIGHT
BEGIN:STANDARD
TZOFFSETFROM:+0200
TZOFFSETTO:+0100
TZNAME:CET
DTSTART:19701025T030000
RRULE:FREQ=YEARLY;BYMONTH=10;BYDAY=-1SU
END:STANDARD
END:VTIMEZONE
BEGIN:VEVENT
UID:2485226:Event:1487991
DTSTAMP:20260423T120037Z
SUMMARY:Formation Reiki 3éme degrés
DESCRIPTION:\n\n Cette enseignement s'adresse à tous ceux qui désir
 ent devenir Maître de leur propre vie sans vouloir transmettre le Rei
 ki à leur tour. Enseignement et pratique du symbole du Maître \n \
 n \n\n\n\n\n\n\n\n\n\n\n\n\n\n\n\n\nPour plus d'information, aller su
 r https://epanews.fr/events/formation-reiki-3-me-degr-s
DTSTART;TZID=Europe/Paris:20130906T000000
DTEND;TZID=Europe/Paris:20130906T235900
CATEGORIES:82
LOCATION:Mirabel
WEBSITE:http://www.lumieresdecristal.com
URL:http://www.lumieresdecristal.com
CONTACT:05 63 65 94 70
ORGANIZER;CN=cristal111:https://epanews.fr/profile/cristal111
ATTACH;FMTTYPE="image/jpeg":http://storage.ning.com/topology/rest/1.0/
 file/get/1662904668?profile=original
ATTENDEE;ROLE=REQ-PARTICIPANT;PARTSTAT=ACCEPTED;RSVP=TRUE;CN=cristal11
 1:https://epanews.fr/profile/cristal111
END:VEVENT
END:VCALENDAR
