BEGIN:VCALENDAR
PRODID:NingEventWidget-v1
VERSION:2.0
METHOD:PUBLISH
BEGIN:VTIMEZONE
TZID:Europe/Paris
X-LIC-LOCATION:Europe/Paris
BEGIN:DAYLIGHT
TZOFFSETFROM:+0100
TZOFFSETTO:+0200
TZNAME:CEST
DTSTART:19700329T020000
RRULE:FREQ=YEARLY;BYMONTH=3;BYDAY=-1SU
END:DAYLIGHT
BEGIN:STANDARD
TZOFFSETFROM:+0200
TZOFFSETTO:+0100
TZNAME:CET
DTSTART:19701025T030000
RRULE:FREQ=YEARLY;BYMONTH=10;BYDAY=-1SU
END:STANDARD
END:VTIMEZONE
BEGIN:VEVENT
UID:2485226:Event:2576135
DTSTAMP:20260421T171056Z
SUMMARY:Formation Reiki 2ème degré
DESCRIPTION:Vous êtes déjà praticien(ne) de Reiki 1er degré et vou
 s souhaitez découvrir et acquérir de nouveaux outils, afin de contin
 uer votre beau parcours sur le chemin du bonheur.\nVous trouverez le b
 ulletin d'inscription ainsi que le programme pédagogique sur le site.
 \nAu plaisir de partager.\n\nPour plus d'information, aller sur https:
 //epanews.fr/events/formation-reiki-2-me-degr-2
DTSTART;TZID=Europe/Paris:20160220T100000
DTEND;TZID=Europe/Paris:20160221T180000
CATEGORIES:13
LOCATION:Amélie Thérapies
WEBSITE:http://www.amelie-therapies.com
URL:http://www.amelie-therapies.com
CONTACT:0610325537
ORGANIZER;CN="Amélie Thérapies":https://epanews.fr/profile/AmelieThe
 rapies
ATTACH;FMTTYPE="image/jpeg":http://storage.ning.com/topology/rest/1.0/
 file/get/1663525560?profile=original
ATTENDEE;ROLE=REQ-PARTICIPANT;PARTSTAT=ACCEPTED;RSVP=TRUE;CN="Amélie 
 Thérapies":https://epanews.fr/profile/AmelieTherapies
END:VEVENT
END:VCALENDAR
