BEGIN:VCALENDAR
PRODID:NingEventWidget-v1
VERSION:2.0
METHOD:PUBLISH
BEGIN:VTIMEZONE
TZID:Europe/Paris
X-LIC-LOCATION:Europe/Paris
BEGIN:DAYLIGHT
TZOFFSETFROM:+0100
TZOFFSETTO:+0200
TZNAME:CEST
DTSTART:19700329T020000
RRULE:FREQ=YEARLY;BYMONTH=3;BYDAY=-1SU
END:DAYLIGHT
BEGIN:STANDARD
TZOFFSETFROM:+0200
TZOFFSETTO:+0100
TZNAME:CET
DTSTART:19701025T030000
RRULE:FREQ=YEARLY;BYMONTH=10;BYDAY=-1SU
END:STANDARD
END:VTIMEZONE
BEGIN:VEVENT
UID:2485226:Event:2908908
DTSTAMP:20260421T213026Z
SUMMARY:formation reflexologie canadienne EMC
DESCRIPTION:Formation Unique à Lille\nméthode de réflexologie globa
 le (sur tout le corps), agissant ua niveau Emotionnel, Mental et Corpo
 rel\nla technique EMC agit sur les douleurs, stress, inscomies, ect ec
 t..et sur la posturologie (hallux valgus, bassin)\nplus d info sur www
 .reflexologie-globale.fr\n\nPour plus d'information, aller sur https:/
 /epanews.fr/events/formation-reflexologie-canadienne-emc-1
DTSTART;TZID=Europe/Paris:20180331T000000
DTEND;TZID=Europe/Paris:20180402T235900
CATEGORIES:59
LOCATION:lille
WEBSITE:http://www.reflexologie-globale.fr
URL:http://www.reflexologie-globale.fr
CONTACT:0673139990
ORGANIZER;CN="Siméon Nathalie":https://epanews.fr/profile/SimeonNatha
 lie
ATTACH;FMTTYPE="image/jpeg":http://storage.ning.com/topology/rest/1.0/
 file/get/1663705148?profile=original
ATTENDEE;ROLE=REQ-PARTICIPANT;PARTSTAT=ACCEPTED;RSVP=TRUE;CN="Siméon 
 Nathalie":https://epanews.fr/profile/SimeonNathalie
END:VEVENT
END:VCALENDAR
